BEGIN:VCALENDAR
VERSION:2.0
PRODID:-//The Registry Theatre - ECPv6.15.20//NONSGML v1.0//EN
CALSCALE:GREGORIAN
METHOD:PUBLISH
X-ORIGINAL-URL:https://registrytheatre.com
X-WR-CALDESC:Events for The Registry Theatre
REFRESH-INTERVAL;VALUE=DURATION:PT1H
X-Robots-Tag:noindex
X-PUBLISHED-TTL:PT1H
BEGIN:VTIMEZONE
TZID:America/Toronto
BEGIN:DAYLIGHT
TZOFFSETFROM:-0500
TZOFFSETTO:-0400
TZNAME:EDT
DTSTART:20220313T070000
END:DAYLIGHT
BEGIN:STANDARD
TZOFFSETFROM:-0400
TZOFFSETTO:-0500
TZNAME:EST
DTSTART:20221106T060000
END:STANDARD
BEGIN:DAYLIGHT
TZOFFSETFROM:-0500
TZOFFSETTO:-0400
TZNAME:EDT
DTSTART:20230312T070000
END:DAYLIGHT
BEGIN:STANDARD
TZOFFSETFROM:-0400
TZOFFSETTO:-0500
TZNAME:EST
DTSTART:20231105T060000
END:STANDARD
BEGIN:DAYLIGHT
TZOFFSETFROM:-0500
TZOFFSETTO:-0400
TZNAME:EDT
DTSTART:20240310T070000
END:DAYLIGHT
BEGIN:STANDARD
TZOFFSETFROM:-0400
TZOFFSETTO:-0500
TZNAME:EST
DTSTART:20241103T060000
END:STANDARD
END:VTIMEZONE
BEGIN:VEVENT
DTSTART;TZID=America/Toronto:20231201T190000
DTEND;TZID=America/Toronto:20231201T210000
DTSTAMP:20260422T234822
CREATED:20251029T163612Z
LAST-MODIFIED:20251029T163612Z
UID:10000846-1701457200-1701464400@registrytheatre.com
SUMMARY:James Chapeskie LIVE!
DESCRIPTION:Presented by J Music Records \n\n\n\n\n\n\n\n \n\n\n\nCome watch James Chapeskie perform live singing his songs and showcasing his famous dancing!  \n\n\n\nThis 2 hour concert features James performing his original music including his hit songs Fairy in the Night\, A Vision\, Falling for you\, Murky Waters\, Feeling of Victory\, and many more! Nicole Beer\, Carolina Engering\, Maryna Kluban\, and even Kurtis Conner will be performing alongside James! \n\n\n\nBright flashing lights and haze will be used throughout the performance. \n\n\n\n\n\nTickets: $37.52 CAD
URL:https://registrytheatre.com/event/james-chapeskie-live/
CATEGORIES:Rental Events
ATTACH;FMTTYPE=image/png:https://registrytheatre.com/wp-content/uploads/2025/10/JAMES-CHAPESKIE-LIVE-1-James-Chapeskie-yOqppU.png
END:VEVENT
BEGIN:VEVENT
DTSTART;TZID=America/Toronto:20231202T200000
DTEND;TZID=America/Toronto:20231202T220000
DTSTAMP:20260422T234822
CREATED:20251029T163612Z
LAST-MODIFIED:20251029T163612Z
UID:10000838-1701547200-1701554400@registrytheatre.com
SUMMARY:ROBERT CREIGHTON: Bringing Broadway Home for the Holidays!
DESCRIPTION:Presented by Robert Creighton\n\n\n\n\n\n\n\n\n\nRobert Creighton is a Walkerton native\, Laurier graduate\, and award-winning veteran of eight Broadway shows. Along with a trio of musicians\, this irrepressible optimist will get you in the Christmas spirit with songs of the season as well as Broadway and American Songbook tunes. He’ll share stories – both comic and inspirational – about his journey from rural Ontario to living his dream on Broadway. Prepare to be uplifted and let “one of Broadway’s most prolific character actors” send you away humming a tune and tapping your toes! robertcreightonnyc.com for more info.  \n\n\n\nAS SEEN ON BROADWAY IN: Disney’s Frozen\, The Lion King\, The Mystery of Edwin Drood\, Anything Goes\, Chicago\, The Little Mermaid\, Chitty Chitty Bang Bang\, and Jackie Mason’s Laughing Room Only  \n\n\n\n🌟Drama Desk & Outer Critics Circle Awards Nominee for Best Lead Actor in a Musical  \n\n\n\n🌟Fred Astaire Award for Outstanding Male Dancer  \n\n\n\n🌟NYC Bistro Award for Outstanding Entertainer \n\n\n\nTickets: $45\, Doors open 7:30pm
URL:https://registrytheatre.com/event/robert-creighton-bringing-broadway-home-for-the-holidays/
CATEGORIES:Rental Events
ATTACH;FMTTYPE=image/jpeg:https://registrytheatre.com/wp-content/uploads/2025/10/Holidays-SiteGraphic-USzT8L.jpg
END:VEVENT
BEGIN:VEVENT
DTSTART;TZID=America/Toronto:20231203T150000
DTEND;TZID=America/Toronto:20231203T170000
DTSTAMP:20260422T234822
CREATED:20251029T163612Z
LAST-MODIFIED:20251029T163612Z
UID:10000844-1701615600-1701622800@registrytheatre.com
SUMMARY:A Lost & Found Christmas
DESCRIPTION:An afternoon of story and song to set a relaxed tone as you embark on the holiday season. \n\n\n\n\n\nPay what you will.Purchase tickets online or at the door
URL:https://registrytheatre.com/event/a-lost-found-christmas-2/
CATEGORIES:Rental Events
ATTACH;FMTTYPE=image/jpeg:https://registrytheatre.com/wp-content/uploads/2025/10/LF-Xmas-Kathleen-Sheehy-1-AEhDCV.jpg
END:VEVENT
BEGIN:VEVENT
DTSTART;TZID=America/Toronto:20231208T200000
DTEND;TZID=America/Toronto:20231208T220000
DTSTAMP:20260422T234822
CREATED:20251029T162035Z
LAST-MODIFIED:20251103T184508Z
UID:10000808-1702065600-1702072800@registrytheatre.com
SUMMARY:MATT WEIDINGER - SOLD OUT
DESCRIPTION:Homegrown @ The Registry\n\n\n\n\n\n\n\n\n\n\n\n9th Annual Holiday Show\n\n\n\n\n\nMatt Weidinger’s 9th Annual Holiday Show comes to The Registry Theatre. A local favourite\, Matt brings his multi-instrumental talent\, and soulful vocals to his original music\, classic covers\, and vintage B sides.  \n\n\n\nTickets: $30 \n\n\n\n\n\n \n\n\n\nWho to contact for event info and inquiries:\n\n\n\n\n\nSeries Sponsor:
URL:https://registrytheatre.com/event/matt-weidinger-sold-out/
CATEGORIES:Homegrown,Registry Presents Events
ATTACH;FMTTYPE=image/jpeg:https://registrytheatre.com/wp-content/uploads/2025/10/Matt-Weidinger-Home-Grown-23-24-xTtnKY.jpg
END:VEVENT
BEGIN:VEVENT
DTSTART;TZID=America/Toronto:20231209T200000
DTEND;TZID=America/Toronto:20231209T220000
DTSTAMP:20260422T234822
CREATED:20251029T163612Z
LAST-MODIFIED:20251029T163612Z
UID:10000836-1702152000-1702159200@registrytheatre.com
SUMMARY:A Big Band Christmas
DESCRIPTION:presented by \n\n\n\nKW Big Band Theory\n\n\n\n\n\n\n\n\n\n\n\n\n\nThe Waterloo Region’s best jazz musicians return to play Christmas classics in their annual charity fundraiser. \n\n\n\nTickets: $25 \n\n\n\n\n\n \n\n\n\nWho to contact for event info and inquiries:
URL:https://registrytheatre.com/event/a-big-band-christmas-3/
CATEGORIES:Registry Presents Events
ATTACH;FMTTYPE=image/jpeg:https://registrytheatre.com/wp-content/uploads/2025/10/Big-Band-Theory-new-colour-photo-for-Big-Band-Christmas-gA6Til.jpg
END:VEVENT
BEGIN:VEVENT
DTSTART;TZID=America/Toronto:20231220T183000
DTEND;TZID=America/Toronto:20231220T203000
DTSTAMP:20260422T234822
CREATED:20251029T163612Z
LAST-MODIFIED:20251029T163612Z
UID:10000848-1703097000-1703104200@registrytheatre.com
SUMMARY:The Wizard of Oz: Youth Edition
DESCRIPTION:Presented by actOUT! KW Children’s Drama Workshop\n\n\n\n\n\n\n\nWe’re off to see the Wizard… L. Frank Baum’s beloved story of a young girl’s adventure in a magical land has been entertaining audiences for over a century. MGM’s blockbuster 1939 film adaptation\, featuring the timeless songs of Harold Arlen and E.Y. Harburg\, along with the brilliant instrumental music of Herbert Stothart\, elevated the popular novel to even greater heights. This stage adaptation\, featuring the characters and celebrated songs from the film\, brings the wondrous Land of Oz to life in a jubilant theatrical experience. Join Dorothy and her loyal companion Toto as they “Follow the Yellow Brick Road” through the Land of Oz\, determined to reach the Emerald City\, where the great and powerful Wizard of Oz will help them get home. Of course\, along the way\, Dorothy encounters witches (both good and bad)\, Munchkins\, talking trees and winged monkeys. But most importantly\, she befriends three unique characters: a Scarecrow with no brain\, a Tin Man with no heart\, and a Lion with no “nerve.” Their journey to happiness – and self-awareness – is a glowing testament to friendship\, understanding and hope in a world filled with both beauty and ugliness. \n\n\n\nClick here for more info! \n\n\n\n\n\nPlease note: School matinees are available upon request. Please contact the presenter\, actOUT! KW. \n\n\n\nTickets\n\n\n\nAdults: $20 Youth 18 and under\, & Seniors 65+: $15 12 and under: $5 \n\n\n\nPurchase online\, remaining tickets will be sold at the door (cash only). \n\n\n\n\n\n\n\n\n\nPresented by
URL:https://registrytheatre.com/event/the-wizard-of-oz-youth-edition/
CATEGORIES:Rental Events
ATTACH;FMTTYPE=image/png:https://registrytheatre.com/wp-content/uploads/2025/10/the_wizard_of_oz_youth_edition_720-Breanna-MacLeod-SBisS0.png
END:VEVENT
END:VCALENDAR