BEGIN:VCALENDAR
VERSION:2.0
PRODID:-//The Registry Theatre - ECPv6.15.20//NONSGML v1.0//EN
CALSCALE:GREGORIAN
METHOD:PUBLISH
X-ORIGINAL-URL:https://registrytheatre.com
X-WR-CALDESC:Events for The Registry Theatre
REFRESH-INTERVAL;VALUE=DURATION:PT1H
X-Robots-Tag:noindex
X-PUBLISHED-TTL:PT1H
BEGIN:VTIMEZONE
TZID:America/Toronto
BEGIN:DAYLIGHT
TZOFFSETFROM:-0500
TZOFFSETTO:-0400
TZNAME:EDT
DTSTART:20220313T070000
END:DAYLIGHT
BEGIN:STANDARD
TZOFFSETFROM:-0400
TZOFFSETTO:-0500
TZNAME:EST
DTSTART:20221106T060000
END:STANDARD
BEGIN:DAYLIGHT
TZOFFSETFROM:-0500
TZOFFSETTO:-0400
TZNAME:EDT
DTSTART:20230312T070000
END:DAYLIGHT
BEGIN:STANDARD
TZOFFSETFROM:-0400
TZOFFSETTO:-0500
TZNAME:EST
DTSTART:20231105T060000
END:STANDARD
BEGIN:DAYLIGHT
TZOFFSETFROM:-0500
TZOFFSETTO:-0400
TZNAME:EDT
DTSTART:20240310T070000
END:DAYLIGHT
BEGIN:STANDARD
TZOFFSETFROM:-0400
TZOFFSETTO:-0500
TZNAME:EST
DTSTART:20241103T060000
END:STANDARD
END:VTIMEZONE
BEGIN:VEVENT
DTSTART;TZID=America/Toronto:20230818T190000
DTEND;TZID=America/Toronto:20230818T220000
DTSTAMP:20260423T055127
CREATED:20251029T162034Z
LAST-MODIFIED:20251029T162427Z
UID:10000792-1692385200-1692396000@registrytheatre.com
SUMMARY:Alice in Wonderland
DESCRIPTION:Presented by Playful Fox Productions\n\n\n\n\n\n\n\n\n\nTravel down the rabbit hole with us this August and journey with Alice through Wonderland as she meets a colourful cast of characters including the White Rabbit\, the Cheshire Cat\, the Caterpillar\, the Hatter\, and of course the short-tempered maniacal Queen of Hearts. Note: Seating is “first come\, first served” so we suggest that you get there early! Doors open 30 minutes before show time. \n\n\n\nConcession sales will be available by cash only. \n\n\n\nTickets: \n\n\n\nGeneral Admission – $30 (plus taxes and fees) Student/Senior – $25 (plus taxes and fees) Child under 4 – $20 (plus taxes and fees) \n\n\n\n\n\n\n\nPlease follow us on Facebook and Instagram : @playfulfoxproductions
URL:https://registrytheatre.com/event/alice-in-wonderland/
CATEGORIES:Rental Events
ATTACH;FMTTYPE=image/jpeg:https://registrytheatre.com/wp-content/uploads/2025/10/AliceInWonderland_InstagramB-Playful-Fox-6NaNu6.jpg
END:VEVENT
END:VCALENDAR