BEGIN:VCALENDAR
VERSION:2.0
PRODID:-//The Registry Theatre - ECPv6.15.20//NONSGML v1.0//EN
CALSCALE:GREGORIAN
METHOD:PUBLISH
X-WR-CALNAME:The Registry Theatre
X-ORIGINAL-URL:https://registrytheatre.com
X-WR-CALDESC:Events for The Registry Theatre
REFRESH-INTERVAL;VALUE=DURATION:PT1H
X-Robots-Tag:noindex
X-PUBLISHED-TTL:PT1H
BEGIN:VTIMEZONE
TZID:America/Toronto
BEGIN:DAYLIGHT
TZOFFSETFROM:-0500
TZOFFSETTO:-0400
TZNAME:EDT
DTSTART:20220313T070000
END:DAYLIGHT
BEGIN:STANDARD
TZOFFSETFROM:-0400
TZOFFSETTO:-0500
TZNAME:EST
DTSTART:20221106T060000
END:STANDARD
BEGIN:DAYLIGHT
TZOFFSETFROM:-0500
TZOFFSETTO:-0400
TZNAME:EDT
DTSTART:20230312T070000
END:DAYLIGHT
BEGIN:STANDARD
TZOFFSETFROM:-0400
TZOFFSETTO:-0500
TZNAME:EST
DTSTART:20231105T060000
END:STANDARD
BEGIN:DAYLIGHT
TZOFFSETFROM:-0500
TZOFFSETTO:-0400
TZNAME:EDT
DTSTART:20240310T070000
END:DAYLIGHT
BEGIN:STANDARD
TZOFFSETFROM:-0400
TZOFFSETTO:-0500
TZNAME:EST
DTSTART:20241103T060000
END:STANDARD
END:VTIMEZONE
BEGIN:VEVENT
DTSTART;TZID=America/Toronto:20230513T200000
DTEND;TZID=America/Toronto:20230513T220000
DTSTAMP:20260420T015514
CREATED:20251029T154858Z
LAST-MODIFIED:20251103T184826Z
UID:10000744-1684008000-1684015200@registrytheatre.com
SUMMARY:Joe Crookston
DESCRIPTION:Folk Night at The Registry\n\n\n\n\n\n\n\n\n\n\n\nJoe played his first Canadian show at The Registry in 2014\, and has become a Folk Night favourite. A multi-instrumentalist\, superb songwriter\, painter\, and tour leader\, Joe’s appreciation has spread worldwide. A perfect performer to cap off our 15th season. \n\n\n\n\n\nTickets:  \n\n\n\n$30 At the Door$25 In Advance
URL:https://registrytheatre.com/event/joe-crookston/
CATEGORIES:Folk Night,Jazz
END:VEVENT
BEGIN:VEVENT
DTSTART;TZID=America/Toronto:20230512T200000
DTEND;TZID=America/Toronto:20230512T223000
DTSTAMP:20260420T015514
CREATED:20251029T153806Z
LAST-MODIFIED:20251101T161852Z
UID:10000719-1683921600-1683930600@registrytheatre.com
SUMMARY:JOHN TANK QUARTET
DESCRIPTION:JT’s 80th Birthday Concert\n\n\n\nJazz at The Registry\n\n\n\n\n\n\n\n \n\n\n\nK-W’s own John Tank returns from NYC to celebrate this landmark. A special night featuring some of John’s favourite Canadian sidemen\, Bernie Senensky piano\, Ted Warren drums\, Neil Swainson bass. \n\n\n\n\n\nTicketing Info for Jazz at The Registry: \n\n\n\n$30 General Admission \n\n\n\n$150 6-Concert Series Pass \n\n\n\nCall 519-578-1570 or Buy Tickets Online
URL:https://registrytheatre.com/event/john-tank-quartet/
CATEGORIES:Jazz,Registry Presents Events
ATTACH;FMTTYPE=image/jpeg:https://registrytheatre.com/wp-content/uploads/2025/10/thumbnail_John-Tank-2023-jazz-series-photo-gZ9ien.jpg
END:VEVENT
BEGIN:VEVENT
DTSTART;TZID=America/Toronto:20230507T150000
DTEND;TZID=America/Toronto:20230507T173000
DTSTAMP:20260420T015514
CREATED:20251029T153806Z
LAST-MODIFIED:20251103T184325Z
UID:10000709-1683471600-1683480600@registrytheatre.com
SUMMARY:CANCELLED - GERARD YUN
DESCRIPTION:Unfortunately this show has been cancelled. If you are a ticket holder please contact 519-578-1570 to arrange a refund. We apologize for the inconvenience. \n\n\n\n\n\n\n\nSeries Sponsor:
URL:https://registrytheatre.com/event/cancelled-gerard-yun/
CATEGORIES:Classics
ATTACH;FMTTYPE=image/jpeg:https://registrytheatre.com/wp-content/uploads/2025/10/Gerard-Yun-for-Clasiscs-brohure-22-23-lGxdCK.jpg
END:VEVENT
BEGIN:VEVENT
DTSTART;TZID=America/Toronto:20230506T200000
DTEND;TZID=America/Toronto:20230506T200000
DTSTAMP:20260420T015514
CREATED:20251029T160722Z
LAST-MODIFIED:20251029T160722Z
UID:10000772-1683403200-1683403200@registrytheatre.com
SUMMARY:LISTEN TO THE MUSIC BAND
DESCRIPTION:a Tribute to the Doobie Brothers\n\n\n\n\n\n\n\n\n\n\n\n\n\n\n\nThe Doobie Brothers are one of the most iconic Classic Rock bands of all time\, having sold millions of albums and topping the charts with great hit songs such as China Grove\, Long Train Running\, What a Fool Believes\, Black Water and\, of course\, Listen to the Music. After five decades\, their music is still in heavy rotation on Classic Rock radio stations world wide.  \n\n\n\nLISTEN TO THE MUSIC BAND is a tribute to the Doobie Brothers consisting of some of the best musicians and singers in Canada. These highly skilled musicians meticulously reproduce each and every great hit song live to give audiences a true experience of seeing and hearing the Doobie Brothers Band perform live. You will want to see this amazing show over and over again. \n\n\n\n\n\nTickets $30 \n\n\n\n\n\n \n\n\n\nPresented by:
URL:https://registrytheatre.com/event/listen-to-the-music-band/
CATEGORIES:Rental Events
ATTACH;FMTTYPE=image/jpeg:https://registrytheatre.com/wp-content/uploads/2025/10/FB_IMG_1679875623453-Kevin-ODonnell-frkuZ2.jpg
END:VEVENT
BEGIN:VEVENT
DTSTART;TZID=America/Toronto:20230505T200000
DTEND;TZID=America/Toronto:20230505T220000
DTSTAMP:20260420T015514
CREATED:20251029T153752Z
LAST-MODIFIED:20251103T185051Z
UID:10000703-1683316800-1683324000@registrytheatre.com
SUMMARY:DIANA PANTON CD RELEASE CONCERT
DESCRIPTION:Featuring Don Thompson & special guests Penderecki String Quartet\n\n\n\nOne Night Only – Live at the Registry!\n\n\n\n\n\n\n\n \n\n\n\nJUNO Award winning vocalist Diana Panton collaborates with the renowned Penderecki String Quartet to perform a special evening of music from Diana’s colour trilogy\, including her latest album Blue. With beautiful string arrangements by the legendary jazz pianist Don Thompson\, plus Reg Schwager guitar\, and Roberto Occhipinti bass. A one of a kind concert not to be missed. \n\n\n\n\n\n$37.50 General Admission \n\n\n\nCall 519-578-1570 or Buy Tickets Online \n\n\n\n\n\nSeries Sponsor:
URL:https://registrytheatre.com/event/diana-panton-cd-release-concert/
CATEGORIES:One Night Only,Registry Presents Events
END:VEVENT
BEGIN:VEVENT
DTSTART;TZID=America/Toronto:20230504T200000
DTEND;TZID=America/Toronto:20230504T220000
DTSTAMP:20260420T015514
CREATED:20251029T153752Z
LAST-MODIFIED:20251101T160928Z
UID:10000698-1683230400-1683237600@registrytheatre.com
SUMMARY:Gamera - The Giant Monster
DESCRIPTION:VOC Plays the Movies\n\n\n\nLive Soundtrack played by VOC Silent Film Harmonic \n\n\n\n\n\n\n\n\n\n\n\n1965 Japanese monster movie classic. Starring Godzilla’s sidekick\, a giant\, fire-breathing turtle. Released from beneath the ice Gamera goes nuclear! \n\n\n\n\n\nCall 519-578-1570 or Buy Tickets Online \n\n\n\n$18 General Admission$12 with Food Bank Donation
URL:https://registrytheatre.com/event/gamera-the-giant-monster/
CATEGORIES:Registry Presents Events,VOC Silent Film
ATTACH;FMTTYPE=image/jpeg:https://registrytheatre.com/wp-content/uploads/2025/10/Gamera-for-VOC-May-4th-23-AZfHwd.jpg
END:VEVENT
BEGIN:VEVENT
DTSTART;TZID=America/Toronto:20230423T140000
DTEND;TZID=America/Toronto:20230423T160000
DTSTAMP:20260420T015514
CREATED:20251029T154858Z
LAST-MODIFIED:20251103T185051Z
UID:10000732-1682258400-1682265600@registrytheatre.com
SUMMARY:SUMMER STOCK at Princess Cinemas
DESCRIPTION:Judy Garland Centennial: “C’mon\, Get Happy!” Judy Garland and Gene Kelly in MGM’s Entertainment Hit\, SUMMER STOCK \n\n\n\nPart of A Judy Garland Centennial Celebration\n\n\n\n\n\n\n\n \n\n\n\nMary-Catherine Pazzano and John Fricke host a special screening of SUMMER STOCK\, one of the most enjoyable of all the classic Metro-Goldwyn-Mayer musicals. This 1950 Technicolor delight showcases the extraordinary Garland and Kelly in two of their signature routines — Judy’s “Get Happy” and Gene’s amazing “newspaper” dance — and includes as well the challenge-dance duet to “The Portland Fancy” (plus “You Wonderful You\,” “If You Feel Like Singing\, Sing\,” “Friendly Star\,” and “Happy Harvest”). Additionally\, SUMMER STOCK features the comedy expertise and antics of Phil Silvers\, Eddie Bracken\, Marjorie Main\, Gloria De Haven\, and Hans Conried; it’s pure entertainment for all ages\, directed by the masterful Charles Walters. (Also: John offers a brief historical introduction prior to the film\, Mary-Catherine joins him for a q&a session after the finale.) \n\n\n\nThis event is taking place as part of Mary Catherine Pazzano’s “A Judy Garland Centennial Celebration.” \n\n\n\n\n\nMore info: https://www.princesscinemas.com/movie/summer-stock \n\n\n\nPLEASE NOTE: THIS EVENT WILL TAKE PLACE AT THE PRINCESS CINEMAS IN UPTOWN WATERLOO! \n\n\n\n\n\n\n\nSeries Sponsor:
URL:https://registrytheatre.com/event/summer-stock-at-princess-cinemas/
CATEGORIES:One Night Only
ATTACH;FMTTYPE=image/jpeg:https://registrytheatre.com/wp-content/uploads/2025/10/summer-stock-SJyB7a.jpg
END:VEVENT
BEGIN:VEVENT
DTSTART;TZID=America/Toronto:20230423T113000
DTEND;TZID=America/Toronto:20230423T123000
DTSTAMP:20260420T015514
CREATED:20251029T160722Z
LAST-MODIFIED:20251029T160722Z
UID:10000774-1682249400-1682253000@registrytheatre.com
SUMMARY:ŠUMSKA ZAVRZLAMA
DESCRIPTION:(Forest Tangles)\n\n\n\n\n\n\n\n\n\n\n\nPerformance for kids. Presented in Serbian.Performance is an hour long. \n\n\n\nAdults: $34.50 Children: $29.50 \n\n\n\n\n\n\n\n \n\n\n\nPresented by:
URL:https://registrytheatre.com/event/sumska-zavrzlama/
CATEGORIES:Rental Events
ATTACH;FMTTYPE=image/jpeg:https://registrytheatre.com/wp-content/uploads/2025/10/Suma-FB-KIT-Operations-Manager-H31xdT.jpg
END:VEVENT
BEGIN:VEVENT
DTSTART;TZID=America/Toronto:20230422T200000
DTEND;TZID=America/Toronto:20230422T220000
DTSTAMP:20260420T015514
CREATED:20251029T153752Z
LAST-MODIFIED:20251103T185051Z
UID:10000702-1682193600-1682200800@registrytheatre.com
SUMMARY:MARY CATHERINE PAZZANO
DESCRIPTION:Judy Garland Centennial:\n\n\n\nA Love Letter in Song with Mary-Catherine Pazzano\n\n\n\n \n\n\n\nOne Night Only – Live at the Registry!\n\n\n\n\n\n\n\n \n\n\n\nWhen MC heard Judy sing Over the Rainbow at 1 year old\, her future as a singer was set in motion. Garland is the reason MC sings. Join Mary-Catherine for a two-act\, jazzy tribute to Judy in song. The first act will lovingly reflect the songbook of Garland’s prolific MGM film career. Hear Garland faves such as “The Trolley Song”\, “Get Happy”\, “The Boy Next Door”\, “On the Atchison Topeka and the Santa Fe”\, as well as lesser-known gems/Pazzano’s personal faves from the Garland film canon. The second act will go beyond MGM and shine the spotlight on Garland’s post-film concert career. Hear gems like “Zing! Went the Strings of My Heart”\, “The Man That Got Away”\, “Almost Like Being in Love/This Can’t Be Love”\, and much more! Mary-Catherine will put her own jazz spin on the Judy songbook\, while resurrecting some of Garland’s most-loved arrangements. PLUS\, John Fricke will also be on hand to offer a brief summary of Judy’s film and stage careers at the top of each act\, lending a touch of history about those stages of Judy’s career and repertoire.                                                                                                                                             \n\n\n\nMary Catherine will be joined by her fabulous band: Mark Eisenman piano\, Jason Hunter sax\, Pat Collins bass\, Steve James drums. \n\n\n\nThis event is taking place as part of Mary Catherine Pazzano’s “A Judy Garland Centennial Celebration.” \n\n\n\n\n\n$35 General AdmissionBonus: Present this ticket at the door on Friday April 21 to get in free to An Evening with John Fricke! \n\n\n\nCall 519-578-1570 or Buy Tickets Online \n\n\n\n\n\nSeries Sponsor: \n\n\n\n\n\n\n\nEvent Funding Support From:
URL:https://registrytheatre.com/event/mary-catherine-pazzano-3/
CATEGORIES:One Night Only,Registry Presents Events
ATTACH;FMTTYPE=image/jpeg:https://registrytheatre.com/wp-content/uploads/2025/10/Judy-Garland-Mary-Catherine-top-bottom-LuCX5L.jpg
END:VEVENT
BEGIN:VEVENT
DTSTART;TZID=America/Toronto:20230421T200000
DTEND;TZID=America/Toronto:20230421T220000
DTSTAMP:20260420T015514
CREATED:20251029T153752Z
LAST-MODIFIED:20251103T185051Z
UID:10000701-1682107200-1682114400@registrytheatre.com
SUMMARY:AN EVENING WITH JOHN FRICKE
DESCRIPTION:Author of Judy Garland: World’s Greatest Entertainer\n\n\n\nOne Night Only – Live at the Registry!\n\n\n\n\n\n\n\nJudy Garland Centennial: So Much More Than Dorothy! With Judy historian and biographer John Fricke \n\n\n\nJudy Garland hit her 100th birthday anniversary last June 10th\, and to celebrate her centennial year\, preeminent and award-winning Garland historian and biographer John Fricke looks back at the extraordinary career of the “world’s greatest entertainer.” You’ll witness her performance power in film and video clips and hear about her limitless sense of humor and incomparable heart in anecdotes from (and personal estimations by) her colleagues. John also shares his own back-stories about seeing Judy in concert when he was a teenager\, recalling as well their brief but unforgettable one-on-one conversation after one of those shows. \n\n\n\nThis event is taking place as part of Mary Catherine Pazzano’s “A Judy Garland Centennial Celebration.” \n\n\n\n\n\n$15 General AdmissionFREE with the purchase of a ticket to April 22 Mary Catherine Pazzano Concert; just present your April 22 ticket at the door. \n\n\n\nCall 519-578-1570 or Buy Tickets Online \n\n\n\n\n\nSeries Sponsor:
URL:https://registrytheatre.com/event/an-evening-with-john-fricke/
CATEGORIES:One Night Only,Registry Presents Events
ATTACH;FMTTYPE=image/jpeg:https://registrytheatre.com/wp-content/uploads/2025/10/Judy-Garland-John-Fricke-side-by-side-eOlBkp.jpg
END:VEVENT
END:VCALENDAR