BEGIN:VCALENDAR
VERSION:2.0
PRODID:-//The Registry Theatre - ECPv6.15.20//NONSGML v1.0//EN
CALSCALE:GREGORIAN
METHOD:PUBLISH
X-ORIGINAL-URL:https://registrytheatre.com
X-WR-CALDESC:Events for The Registry Theatre
REFRESH-INTERVAL;VALUE=DURATION:PT1H
X-Robots-Tag:noindex
X-PUBLISHED-TTL:PT1H
BEGIN:VTIMEZONE
TZID:America/Toronto
BEGIN:DAYLIGHT
TZOFFSETFROM:-0500
TZOFFSETTO:-0400
TZNAME:EDT
DTSTART:20250309T070000
END:DAYLIGHT
BEGIN:STANDARD
TZOFFSETFROM:-0400
TZOFFSETTO:-0500
TZNAME:EST
DTSTART:20251102T060000
END:STANDARD
BEGIN:DAYLIGHT
TZOFFSETFROM:-0500
TZOFFSETTO:-0400
TZNAME:EDT
DTSTART:20260308T070000
END:DAYLIGHT
BEGIN:STANDARD
TZOFFSETFROM:-0400
TZOFFSETTO:-0500
TZNAME:EST
DTSTART:20261101T060000
END:STANDARD
BEGIN:DAYLIGHT
TZOFFSETFROM:-0500
TZOFFSETTO:-0400
TZNAME:EDT
DTSTART:20270314T070000
END:DAYLIGHT
BEGIN:STANDARD
TZOFFSETFROM:-0400
TZOFFSETTO:-0500
TZNAME:EST
DTSTART:20271107T060000
END:STANDARD
END:VTIMEZONE
BEGIN:VEVENT
DTSTART;TZID=America/Toronto:20260408T193000
DTEND;TZID=America/Toronto:20260408T220000
DTSTAMP:20260421T214814
CREATED:20260211T031247Z
LAST-MODIFIED:20260211T031251Z
UID:10001061-1775676600-1775685600@registrytheatre.com
SUMMARY:The Songs of Sheryl Crow and Stevie Nicks
DESCRIPTION:PRESENTED BY: Classic Troubadour Productions\n\n\n\n\n\n\n\n\n\nExperience the magic of two rock icons in one unforgettable night! Jacob Moon and Classic Troubadours celebrate the timeless hits of Sheryl Crow and Stevie Nicks\, featuring powerful performances of classics like “If It Makes You Happy\,” “Everyday Is a Winding Road\,” “Edge of Seventeen\,” and “Rhiannon.” With soaring vocals\, a dynamic live band (featuring an all-star local band including Alex Whorms\, Melissa Marchese and Annette Haas)\, and the soulful energy of these legendary artists\, this show is a must-see for fans of female-driven rock and roll. Relive the music that defined a generation! \n\n\n\nTickets $48.44 \n\n\n\n\nTickets\n\n\n\n\nFor event information\, please contact:
URL:https://registrytheatre.com/event/the-songs-of-sheryl-crow-and-stevie-nicks/
CATEGORIES:Rental Events
ATTACH;FMTTYPE=image/jpeg:https://registrytheatre.com/wp-content/uploads/2026/02/SCSN-Empire-Color-Shot-sm-scaled.jpg
END:VEVENT
END:VCALENDAR