BEGIN:VCALENDAR
VERSION:2.0
PRODID:-//The Registry Theatre - ECPv6.15.20//NONSGML v1.0//EN
CALSCALE:GREGORIAN
METHOD:PUBLISH
X-ORIGINAL-URL:https://registrytheatre.com
X-WR-CALDESC:Events for The Registry Theatre
REFRESH-INTERVAL;VALUE=DURATION:PT1H
X-Robots-Tag:noindex
X-PUBLISHED-TTL:PT1H
BEGIN:VTIMEZONE
TZID:America/Toronto
BEGIN:DAYLIGHT
TZOFFSETFROM:-0500
TZOFFSETTO:-0400
TZNAME:EDT
DTSTART:20250309T070000
END:DAYLIGHT
BEGIN:STANDARD
TZOFFSETFROM:-0400
TZOFFSETTO:-0500
TZNAME:EST
DTSTART:20251102T060000
END:STANDARD
BEGIN:DAYLIGHT
TZOFFSETFROM:-0500
TZOFFSETTO:-0400
TZNAME:EDT
DTSTART:20260308T070000
END:DAYLIGHT
BEGIN:STANDARD
TZOFFSETFROM:-0400
TZOFFSETTO:-0500
TZNAME:EST
DTSTART:20261101T060000
END:STANDARD
BEGIN:DAYLIGHT
TZOFFSETFROM:-0500
TZOFFSETTO:-0400
TZNAME:EDT
DTSTART:20270314T070000
END:DAYLIGHT
BEGIN:STANDARD
TZOFFSETFROM:-0400
TZOFFSETTO:-0500
TZNAME:EST
DTSTART:20271107T060000
END:STANDARD
END:VTIMEZONE
BEGIN:VEVENT
DTSTART;TZID=America/Toronto:20260218T190000
DTEND;TZID=America/Toronto:20260218T210000
DTSTAMP:20260421T230124
CREATED:20260126T192049Z
LAST-MODIFIED:20260126T192052Z
UID:10001045-1771441200-1771448400@registrytheatre.com
SUMMARY:TREASURE ISLAND
DESCRIPTION:actOUT! Kitchener-Waterloo Children’s Drama Workshop \n\n\n\n\n\n\n\nAhoy\, matey! Join our crew for ☠ Treasure Island ☠ on stage!  \n\n\n\nIn this comedic adventure for all ages\, Jim Hawkins heads out on an adventure\, treasure map in hand. Unfortunately\, the crew he sets sail with turn out to be pirates captained by the scoundrel Long John Silver! Forced to work together\, their journey takes several dramatic and hilarious turns.  \n\n\n\nBe prepared for a swashbuckling good time as our Narrators interact with the audience. Sit up front if you want a chance to get in on the action! \n\n\n\n\n\n$5 child\, $15 youth/senior\, $25 adult
URL:https://registrytheatre.com/event/treasure-island/2026-02-18/
CATEGORIES:Rental Events
ATTACH;FMTTYPE=image/png:https://registrytheatre.com/wp-content/uploads/2026/01/Treasure-Island-Cover-Board-Chair.png
END:VEVENT
BEGIN:VEVENT
DTSTART;TZID=America/Toronto:20260219T190000
DTEND;TZID=America/Toronto:20260219T210000
DTSTAMP:20260421T230124
CREATED:20260126T192049Z
LAST-MODIFIED:20260126T192052Z
UID:10001046-1771527600-1771534800@registrytheatre.com
SUMMARY:TREASURE ISLAND
DESCRIPTION:actOUT! Kitchener-Waterloo Children’s Drama Workshop \n\n\n\n\n\n\n\nAhoy\, matey! Join our crew for ☠ Treasure Island ☠ on stage!  \n\n\n\nIn this comedic adventure for all ages\, Jim Hawkins heads out on an adventure\, treasure map in hand. Unfortunately\, the crew he sets sail with turn out to be pirates captained by the scoundrel Long John Silver! Forced to work together\, their journey takes several dramatic and hilarious turns.  \n\n\n\nBe prepared for a swashbuckling good time as our Narrators interact with the audience. Sit up front if you want a chance to get in on the action! \n\n\n\n\n\n$5 child\, $15 youth/senior\, $25 adult
URL:https://registrytheatre.com/event/treasure-island/2026-02-19/
CATEGORIES:Rental Events
ATTACH;FMTTYPE=image/png:https://registrytheatre.com/wp-content/uploads/2026/01/Treasure-Island-Cover-Board-Chair.png
END:VEVENT
BEGIN:VEVENT
DTSTART;TZID=America/Toronto:20260220T190000
DTEND;TZID=America/Toronto:20260220T210000
DTSTAMP:20260421T230124
CREATED:20260126T192049Z
LAST-MODIFIED:20260126T192052Z
UID:10001047-1771614000-1771621200@registrytheatre.com
SUMMARY:TREASURE ISLAND
DESCRIPTION:actOUT! Kitchener-Waterloo Children’s Drama Workshop \n\n\n\n\n\n\n\nAhoy\, matey! Join our crew for ☠ Treasure Island ☠ on stage!  \n\n\n\nIn this comedic adventure for all ages\, Jim Hawkins heads out on an adventure\, treasure map in hand. Unfortunately\, the crew he sets sail with turn out to be pirates captained by the scoundrel Long John Silver! Forced to work together\, their journey takes several dramatic and hilarious turns.  \n\n\n\nBe prepared for a swashbuckling good time as our Narrators interact with the audience. Sit up front if you want a chance to get in on the action! \n\n\n\n\n\n$5 child\, $15 youth/senior\, $25 adult
URL:https://registrytheatre.com/event/treasure-island/2026-02-20/
CATEGORIES:Rental Events
ATTACH;FMTTYPE=image/png:https://registrytheatre.com/wp-content/uploads/2026/01/Treasure-Island-Cover-Board-Chair.png
END:VEVENT
BEGIN:VEVENT
DTSTART;TZID=America/Toronto:20260221T020000
DTEND;TZID=America/Toronto:20260221T210000
DTSTAMP:20260421T230124
CREATED:20260126T192049Z
LAST-MODIFIED:20260126T192052Z
UID:10001048-1771639200-1771707600@registrytheatre.com
SUMMARY:TREASURE ISLAND
DESCRIPTION:actOUT! Kitchener-Waterloo Children’s Drama Workshop \n\n\n\n\n\n\n\nAhoy\, matey! Join our crew for ☠ Treasure Island ☠ on stage!  \n\n\n\nIn this comedic adventure for all ages\, Jim Hawkins heads out on an adventure\, treasure map in hand. Unfortunately\, the crew he sets sail with turn out to be pirates captained by the scoundrel Long John Silver! Forced to work together\, their journey takes several dramatic and hilarious turns.  \n\n\n\nBe prepared for a swashbuckling good time as our Narrators interact with the audience. Sit up front if you want a chance to get in on the action! \n\n\n\n\n\n$5 child\, $15 youth/senior\, $25 adult
URL:https://registrytheatre.com/event/treasure-island/2026-02-21/1/
CATEGORIES:Rental Events
ATTACH;FMTTYPE=image/png:https://registrytheatre.com/wp-content/uploads/2026/01/Treasure-Island-Cover-Board-Chair.png
END:VEVENT
BEGIN:VEVENT
DTSTART;TZID=America/Toronto:20260221T190000
DTEND;TZID=America/Toronto:20260221T210000
DTSTAMP:20260421T230124
CREATED:20260126T192049Z
LAST-MODIFIED:20260126T192052Z
UID:10001049-1771700400-1771707600@registrytheatre.com
SUMMARY:TREASURE ISLAND
DESCRIPTION:actOUT! Kitchener-Waterloo Children’s Drama Workshop \n\n\n\n\n\n\n\nAhoy\, matey! Join our crew for ☠ Treasure Island ☠ on stage!  \n\n\n\nIn this comedic adventure for all ages\, Jim Hawkins heads out on an adventure\, treasure map in hand. Unfortunately\, the crew he sets sail with turn out to be pirates captained by the scoundrel Long John Silver! Forced to work together\, their journey takes several dramatic and hilarious turns.  \n\n\n\nBe prepared for a swashbuckling good time as our Narrators interact with the audience. Sit up front if you want a chance to get in on the action! \n\n\n\n\n\n$5 child\, $15 youth/senior\, $25 adult
URL:https://registrytheatre.com/event/treasure-island/2026-02-21/2/
CATEGORIES:Rental Events
ATTACH;FMTTYPE=image/png:https://registrytheatre.com/wp-content/uploads/2026/01/Treasure-Island-Cover-Board-Chair.png
END:VEVENT
END:VCALENDAR