BEGIN:VCALENDAR
VERSION:2.0
PRODID:-//The Registry Theatre - ECPv6.15.20//NONSGML v1.0//EN
CALSCALE:GREGORIAN
METHOD:PUBLISH
X-WR-CALNAME:The Registry Theatre
X-ORIGINAL-URL:https://registrytheatre.com
X-WR-CALDESC:Events for The Registry Theatre
REFRESH-INTERVAL;VALUE=DURATION:PT1H
X-Robots-Tag:noindex
X-PUBLISHED-TTL:PT1H
BEGIN:VTIMEZONE
TZID:America/Toronto
BEGIN:DAYLIGHT
TZOFFSETFROM:-0500
TZOFFSETTO:-0400
TZNAME:EDT
DTSTART:20250309T070000
END:DAYLIGHT
BEGIN:STANDARD
TZOFFSETFROM:-0400
TZOFFSETTO:-0500
TZNAME:EST
DTSTART:20251102T060000
END:STANDARD
BEGIN:DAYLIGHT
TZOFFSETFROM:-0500
TZOFFSETTO:-0400
TZNAME:EDT
DTSTART:20260308T070000
END:DAYLIGHT
BEGIN:STANDARD
TZOFFSETFROM:-0400
TZOFFSETTO:-0500
TZNAME:EST
DTSTART:20261101T060000
END:STANDARD
BEGIN:DAYLIGHT
TZOFFSETFROM:-0500
TZOFFSETTO:-0400
TZNAME:EDT
DTSTART:20270314T070000
END:DAYLIGHT
BEGIN:STANDARD
TZOFFSETFROM:-0400
TZOFFSETTO:-0500
TZNAME:EST
DTSTART:20271107T060000
END:STANDARD
END:VTIMEZONE
BEGIN:VEVENT
DTSTART;TZID=America/Toronto:20260211T183000
DTEND;TZID=America/Toronto:20260211T203000
DTSTAMP:20260422T003447
CREATED:20260126T192819Z
LAST-MODIFIED:20260126T192825Z
UID:10001050-1770834600-1770841800@registrytheatre.com
SUMMARY:PETER & THE WOLF
DESCRIPTION:Presented by Carousel Dance Company\n\n\n\n\n\n\n\n\n\n\n\n\n\n\n\nJoin us for a performance of Peter & the Wolf! \n\n\n\nTICKETS: $25 adult or $15 child – HST added to all ticket prices *anyone who has purchased a ticket to KW Chamber Orchestra’s Peter & the Wolf on Feb 8th receives $10 off ticket price (applies to adult ticket prices only). Show proof of your Chamber Orchestra ticket purchase to get the deal.Tickets can be purchased at Carousel Dance Centre – 550-D7 Parkside Drive or at the door by cash or e-transfer \n\n\n\n\n\nPresented by:
URL:https://registrytheatre.com/event/peter-the-wolf/
CATEGORIES:Rental Events
ATTACH;FMTTYPE=image/png:https://registrytheatre.com/wp-content/uploads/2026/01/Your-poster-image-is-ready-now.-Heidi-Churchill.png
END:VEVENT
END:VCALENDAR