BEGIN:VCALENDAR
VERSION:2.0
PRODID:-//The Registry Theatre - ECPv6.15.20//NONSGML v1.0//EN
CALSCALE:GREGORIAN
METHOD:PUBLISH
X-ORIGINAL-URL:https://registrytheatre.com
X-WR-CALDESC:Events for The Registry Theatre
REFRESH-INTERVAL;VALUE=DURATION:PT1H
X-Robots-Tag:noindex
X-PUBLISHED-TTL:PT1H
BEGIN:VTIMEZONE
TZID:America/Toronto
BEGIN:DAYLIGHT
TZOFFSETFROM:-0500
TZOFFSETTO:-0400
TZNAME:EDT
DTSTART:20240310T070000
END:DAYLIGHT
BEGIN:STANDARD
TZOFFSETFROM:-0400
TZOFFSETTO:-0500
TZNAME:EST
DTSTART:20241103T060000
END:STANDARD
BEGIN:DAYLIGHT
TZOFFSETFROM:-0500
TZOFFSETTO:-0400
TZNAME:EDT
DTSTART:20250309T070000
END:DAYLIGHT
BEGIN:STANDARD
TZOFFSETFROM:-0400
TZOFFSETTO:-0500
TZNAME:EST
DTSTART:20251102T060000
END:STANDARD
BEGIN:DAYLIGHT
TZOFFSETFROM:-0500
TZOFFSETTO:-0400
TZNAME:EDT
DTSTART:20260308T070000
END:DAYLIGHT
BEGIN:STANDARD
TZOFFSETFROM:-0400
TZOFFSETTO:-0500
TZNAME:EST
DTSTART:20261101T060000
END:STANDARD
END:VTIMEZONE
BEGIN:VEVENT
DTSTART;TZID=America/Toronto:20250303T160000
DTEND;TZID=America/Toronto:20250303T160000
DTSTAMP:20260422T154534
CREATED:20241227T025222Z
LAST-MODIFIED:20251029T183122Z
UID:10000589-1741017600-1741017600@registrytheatre.com
SUMMARY:IN.MOTION Dance School Solo/Duet/Trio Competition Showcase
DESCRIPTION:Presented by IN.MOTION Dance School \n\n\n\n\n\n\n\n \n\n\n\nPresenting IN.MOTION Dance School’s 2025 Competitive Solo\, Duet & Trio routines. \n\n\n\n\n\nTickets: $5.00Tickets available through IN.MOTION Dance School (637 Victoria Street N\, Kitchener).
URL:https://registrytheatre.com/event/in-motion-dance-school-solo-duet-trio-competition-showcase/
LOCATION:The Registry Theatre\, 122 Frederick Street\, Kitchener\, ON\, N2H 2L9\, Canada
CATEGORIES:Rental Events
END:VEVENT
END:VCALENDAR