BEGIN:VCALENDAR
VERSION:2.0
PRODID:-//The Registry Theatre - ECPv6.15.20//NONSGML v1.0//EN
CALSCALE:GREGORIAN
METHOD:PUBLISH
X-ORIGINAL-URL:https://registrytheatre.com
X-WR-CALDESC:Events for The Registry Theatre
REFRESH-INTERVAL;VALUE=DURATION:PT1H
X-Robots-Tag:noindex
X-PUBLISHED-TTL:PT1H
BEGIN:VTIMEZONE
TZID:America/Toronto
BEGIN:DAYLIGHT
TZOFFSETFROM:-0500
TZOFFSETTO:-0400
TZNAME:EDT
DTSTART:20250309T070000
END:DAYLIGHT
BEGIN:STANDARD
TZOFFSETFROM:-0400
TZOFFSETTO:-0500
TZNAME:EST
DTSTART:20251102T060000
END:STANDARD
BEGIN:DAYLIGHT
TZOFFSETFROM:-0500
TZOFFSETTO:-0400
TZNAME:EDT
DTSTART:20260308T070000
END:DAYLIGHT
BEGIN:STANDARD
TZOFFSETFROM:-0400
TZOFFSETTO:-0500
TZNAME:EST
DTSTART:20261101T060000
END:STANDARD
BEGIN:DAYLIGHT
TZOFFSETFROM:-0500
TZOFFSETTO:-0400
TZNAME:EDT
DTSTART:20270314T070000
END:DAYLIGHT
BEGIN:STANDARD
TZOFFSETFROM:-0400
TZOFFSETTO:-0500
TZNAME:EST
DTSTART:20271107T060000
END:STANDARD
END:VTIMEZONE
BEGIN:VEVENT
DTSTART;TZID=America/Toronto:20260315T100000
DTEND;TZID=America/Toronto:20260315T113000
DTSTAMP:20260422T181714
CREATED:20260209T193545Z
LAST-MODIFIED:20260209T193549Z
UID:10001055-1773568800-1773574200@registrytheatre.com
SUMMARY:Squares\, Circles and Triangles
DESCRIPTION:IRISH REAL LIFE FESTIVAL\n\n\n\n\n\n\n\n \n\n\n\n\n\nUsing an easy-to-learn method\, explore how knot patterns can be created within any geometric shape. Learn how to create our own knots and become the master of the knot! A great class for all ages! Materials – Please bring a pencil and colour medium (markers\, pencils\, crayons \, etc.). \n\n\n\nPay what you can\, online or at the door \n\n\n\n\n\n \n\n\n\nPresented by:
URL:https://registrytheatre.com/event/squares-circles-and-triangles/
LOCATION:The Registry Theatre\, 122 Frederick Street\, Kitchener\, ON\, N2H 2L9\, Canada
CATEGORIES:Rental Events
ATTACH;FMTTYPE=image/png:https://registrytheatre.com/wp-content/uploads/2026/02/squares-circles-triangles-celtic-knots-irl-festival-kitchener-Kathleen-Sheehy.png
ORGANIZER;CN="Irish Real Life Festival":MAILTO:info@irishreallifekw.com
END:VEVENT
BEGIN:VEVENT
DTSTART;TZID=America/Toronto:20260315T123000
DTEND;TZID=America/Toronto:20260315T140000
DTSTAMP:20260422T181715
CREATED:20260210T025231Z
LAST-MODIFIED:20260210T025235Z
UID:10001056-1773577800-1773583200@registrytheatre.com
SUMMARY:Celtic Illuminated Letters Class
DESCRIPTION:IRISH REAL LIFE FESTIVAL\n\n\n\n\n\n\n\n\n\nThis easy method will de-mystify the amazing Initial pages of that great Irish Manuscript\, the Book of Kells. After this class\, you will never take another letter for granted! Class 1/ Celtic Knots is an excellent pre-requisite\, but not absolutely necessary. \n\n\n\nPay what you can\, online or in person \n\n\n\n\n\n \n\n\n\nPresented by:
URL:https://registrytheatre.com/event/celtic-illuminated-letters-class/
LOCATION:The Registry Theatre\, 122 Frederick Street\, Kitchener\, ON\, N2H 2L9\, Canada
CATEGORIES:Rental Events
ATTACH;FMTTYPE=image/png:https://registrytheatre.com/wp-content/uploads/2026/02/celtic-letter-illumination-irl-festival-kitchener-Kathleen-Sheehy.png
ORGANIZER;CN="Irish Real Life Festival":MAILTO:info@irishreallifekw.com
END:VEVENT
BEGIN:VEVENT
DTSTART;TZID=America/Toronto:20260315T190000
DTEND;TZID=America/Toronto:20260315T210000
DTSTAMP:20260422T181715
CREATED:20260210T025505Z
LAST-MODIFIED:20260210T025510Z
UID:10001057-1773601200-1773608400@registrytheatre.com
SUMMARY:Connected Threads
DESCRIPTION:IRISH REAL LIFE FESTIVAL\n\n\n\n\n\n\n\n\n\nThis event showcases Irish step dance alongside French-Canadian gigue\, accompanied by traditional music that highlights the rhythmic and melodic ties between these cultures. More than a performance\, Connected Threads invites audiences into a space of conversation and discovery. \n\n\n\nPay what you can\, online or in person \n\n\n\n\n\n \n\n\n\nPresented by:
URL:https://registrytheatre.com/event/connected-threads/
LOCATION:The Registry Theatre\, 122 Frederick Street\, Kitchener\, ON\, N2H 2L9\, Canada
CATEGORIES:Rental Events
ATTACH;FMTTYPE=image/png:https://registrytheatre.com/wp-content/uploads/2026/02/Connected-Threads-Kathleen-Sheehy.png
ORGANIZER;CN="Irish Real Life Festival":MAILTO:info@irishreallifekw.com
END:VEVENT
BEGIN:VEVENT
DTSTART;TZID=America/Toronto:20260316T140000
DTEND;TZID=America/Toronto:20260316T160000
DTSTAMP:20260422T181715
CREATED:20260210T025955Z
LAST-MODIFIED:20260210T025958Z
UID:10001058-1773669600-1773676800@registrytheatre.com
SUMMARY:When the Rain Came Dancing
DESCRIPTION:IRISH REAL LIFE FESTIVAL\n\n\n\n\n\n\n\n\n\nA playful\, participatory journey of music\, dance\, and storytelling where families sing\, move\, and discover the magic of an ordinary rainy day together. There is no need for prior experience! Participation will be guided throughout\, making the event accessible for all ages and abilities. \n\n\n\nPay what you can\, online or in person \n\n\n\n\n\n \n\n\n\nPresented by:
URL:https://registrytheatre.com/event/when-the-rain-came-dancing/
LOCATION:The Registry Theatre\, 122 Frederick Street\, Kitchener\, ON\, N2H 2L9\, Canada
CATEGORIES:Rental Events
ATTACH;FMTTYPE=image/png:https://registrytheatre.com/wp-content/uploads/2026/02/When-the-Rain-Came-Dancing-Kathleen-Sheehy.png
ORGANIZER;CN="Irish Real Life Festival":MAILTO:info@irishreallifekw.com
END:VEVENT
BEGIN:VEVENT
DTSTART;TZID=America/Toronto:20260316T190000
DTEND;TZID=America/Toronto:20260316T210000
DTSTAMP:20260422T181715
CREATED:20260210T030315Z
LAST-MODIFIED:20260210T030318Z
UID:10001059-1773687600-1773694800@registrytheatre.com
SUMMARY:Film and Talk Back: The Irish and First Nations
DESCRIPTION:IRISH REAL LIFE FESTIVAL\n\n\n\n\n\n\n\n\n\nA showing of TG4’s documentary\, Éire agus Na Chéad Náisiúin (Ireland and the First Nations) followed by a talk back with Mohawk Elder Tom Porter (featured in the film). \n\n\n\nPay what you can\, online or in person \n\n\n\n\n\n \n\n\n\nPresented by:
URL:https://registrytheatre.com/event/film-and-talk-back-the-irish-and-first-nations/
LOCATION:The Registry Theatre\, 122 Frederick Street\, Kitchener\, ON\, N2H 2L9\, Canada
CATEGORIES:Rental Events
ATTACH;FMTTYPE=image/png:https://registrytheatre.com/wp-content/uploads/2026/02/Film-and-Talk-Back-Ireland-and-The-First-Nations-Kathleen-Sheehy.png
ORGANIZER;CN="Irish Real Life Festival":MAILTO:info@irishreallifekw.com
END:VEVENT
BEGIN:VEVENT
DTSTART;TZID=America/Toronto:20260328T200000
DTEND;TZID=America/Toronto:20260328T230000
DTSTAMP:20260422T181715
CREATED:20260109T162932Z
LAST-MODIFIED:20260109T162939Z
UID:10001036-1774728000-1774738800@registrytheatre.com
SUMMARY:JACK DE KEYZER LIVE AT THE REGISTRY
DESCRIPTION:Presented by Blue Star Records \n\n\n\n\n\n\n\n\n\nCatch multiple Juno\, Maple Blues and CBC’s Great Canadian Blues Award winner Jack de Keyzer and his top notch band live and up close! \n\n\n\nLicensed 19+Tickets $40
URL:https://registrytheatre.com/event/jack-de-keyzer-live-at-the-registry/
LOCATION:The Registry Theatre\, 122 Frederick Street\, Kitchener\, ON\, N2H 2L9\, Canada
CATEGORIES:Rental Events
ATTACH;FMTTYPE=image/jpeg:https://registrytheatre.com/wp-content/uploads/2026/01/Jack-de-Keyzer-280-TM8edit32017.jpg
ORGANIZER;CN="Blue Star Records":MAILTO:bluestarrecords@rogers.com
END:VEVENT
BEGIN:VEVENT
DTSTART;TZID=America/Toronto:20260403T190000
DTEND;TZID=America/Toronto:20260403T210000
DTSTAMP:20260422T181715
CREATED:20260325T212311Z
LAST-MODIFIED:20260325T212320Z
UID:10001082-1775242800-1775250000@registrytheatre.com
SUMMARY:Charlie and the Chocolate Factory: The Broadway Musical
DESCRIPTION:Presented by Playful Fox Productions \n\n\n\n\n\n\n\n\n\nAfter their highly praised production last year at The Sanderson Centre\, Playful Fox Productions invites you to enter a world of Pure Imagination with Charlie and the Chocolate Factory – The Broadway Musical!  \n\n\n\nWorld Famous Candy-Man Willy Wonka comes to The Registry Theatre in this tasty Broadway/West End musical based on the famous novel and hit movie. Join Wonka\, young Charlie Bucket\, and four other golden ticket winners as they embark on a lifechanging journey through Wonka’s world of pure imagination including Oompa Loompas\, chocolate waterfalls\, nutty squirrels and the great glass elevator. Licensed with permission by MTI. \n\n\n\nTickets: $25 – $40Concessions will be available for cash only. Tickets may be purchased at the door with credit or cash. \n\n\n\n\n\nWho to contact for event info and inquiries:
URL:https://registrytheatre.com/event/charlie-and-the-chocolate-factory-the-broadway-musical/2026-04-03/
CATEGORIES:Rental Events
ATTACH;FMTTYPE=image/jpeg:https://registrytheatre.com/wp-content/uploads/2026/03/Charlie2026Main_Poster1-Marissa-Wilson.jpg
END:VEVENT
BEGIN:VEVENT
DTSTART;TZID=America/Toronto:20260404T140000
DTEND;TZID=America/Toronto:20260404T160000
DTSTAMP:20260422T181715
CREATED:20260325T212311Z
LAST-MODIFIED:20260325T212320Z
UID:10001083-1775311200-1775318400@registrytheatre.com
SUMMARY:Charlie and the Chocolate Factory: The Broadway Musical
DESCRIPTION:Presented by Playful Fox Productions \n\n\n\n\n\n\n\n\n\nAfter their highly praised production last year at The Sanderson Centre\, Playful Fox Productions invites you to enter a world of Pure Imagination with Charlie and the Chocolate Factory – The Broadway Musical!  \n\n\n\nWorld Famous Candy-Man Willy Wonka comes to The Registry Theatre in this tasty Broadway/West End musical based on the famous novel and hit movie. Join Wonka\, young Charlie Bucket\, and four other golden ticket winners as they embark on a lifechanging journey through Wonka’s world of pure imagination including Oompa Loompas\, chocolate waterfalls\, nutty squirrels and the great glass elevator. Licensed with permission by MTI. \n\n\n\nTickets: $25 – $40Concessions will be available for cash only. Tickets may be purchased at the door with credit or cash. \n\n\n\n\n\nWho to contact for event info and inquiries:
URL:https://registrytheatre.com/event/charlie-and-the-chocolate-factory-the-broadway-musical/2026-04-04/1/
CATEGORIES:Rental Events
ATTACH;FMTTYPE=image/jpeg:https://registrytheatre.com/wp-content/uploads/2026/03/Charlie2026Main_Poster1-Marissa-Wilson.jpg
END:VEVENT
BEGIN:VEVENT
DTSTART;TZID=America/Toronto:20260404T190000
DTEND;TZID=America/Toronto:20260404T210000
DTSTAMP:20260422T181715
CREATED:20260325T212311Z
LAST-MODIFIED:20260325T212320Z
UID:10001084-1775329200-1775336400@registrytheatre.com
SUMMARY:Charlie and the Chocolate Factory: The Broadway Musical
DESCRIPTION:Presented by Playful Fox Productions \n\n\n\n\n\n\n\n\n\nAfter their highly praised production last year at The Sanderson Centre\, Playful Fox Productions invites you to enter a world of Pure Imagination with Charlie and the Chocolate Factory – The Broadway Musical!  \n\n\n\nWorld Famous Candy-Man Willy Wonka comes to The Registry Theatre in this tasty Broadway/West End musical based on the famous novel and hit movie. Join Wonka\, young Charlie Bucket\, and four other golden ticket winners as they embark on a lifechanging journey through Wonka’s world of pure imagination including Oompa Loompas\, chocolate waterfalls\, nutty squirrels and the great glass elevator. Licensed with permission by MTI. \n\n\n\nTickets: $25 – $40Concessions will be available for cash only. Tickets may be purchased at the door with credit or cash. \n\n\n\n\n\nWho to contact for event info and inquiries:
URL:https://registrytheatre.com/event/charlie-and-the-chocolate-factory-the-broadway-musical/2026-04-04/2/
CATEGORIES:Rental Events
ATTACH;FMTTYPE=image/jpeg:https://registrytheatre.com/wp-content/uploads/2026/03/Charlie2026Main_Poster1-Marissa-Wilson.jpg
END:VEVENT
BEGIN:VEVENT
DTSTART;TZID=America/Toronto:20260408T193000
DTEND;TZID=America/Toronto:20260408T220000
DTSTAMP:20260422T181715
CREATED:20260211T031247Z
LAST-MODIFIED:20260211T031251Z
UID:10001061-1775676600-1775685600@registrytheatre.com
SUMMARY:The Songs of Sheryl Crow and Stevie Nicks
DESCRIPTION:PRESENTED BY: Classic Troubadour Productions\n\n\n\n\n\n\n\n\n\nExperience the magic of two rock icons in one unforgettable night! Jacob Moon and Classic Troubadours celebrate the timeless hits of Sheryl Crow and Stevie Nicks\, featuring powerful performances of classics like “If It Makes You Happy\,” “Everyday Is a Winding Road\,” “Edge of Seventeen\,” and “Rhiannon.” With soaring vocals\, a dynamic live band (featuring an all-star local band including Alex Whorms\, Melissa Marchese and Annette Haas)\, and the soulful energy of these legendary artists\, this show is a must-see for fans of female-driven rock and roll. Relive the music that defined a generation! \n\n\n\nTickets $48.44 \n\n\n\n\nTickets\n\n\n\n\nFor event information\, please contact:
URL:https://registrytheatre.com/event/the-songs-of-sheryl-crow-and-stevie-nicks/
CATEGORIES:Rental Events
ATTACH;FMTTYPE=image/jpeg:https://registrytheatre.com/wp-content/uploads/2026/02/SCSN-Empire-Color-Shot-sm-scaled.jpg
END:VEVENT
BEGIN:VEVENT
DTSTART;TZID=America/Toronto:20260413T183000
DTEND;TZID=America/Toronto:20260413T203000
DTSTAMP:20260422T181715
CREATED:20260305T162259Z
LAST-MODIFIED:20260305T162304Z
UID:10001068-1776105000-1776112200@registrytheatre.com
SUMMARY:1-800-NONSENSE
DESCRIPTION:Growing In The Arts School of Dramatic & Cinema Arts \n\n\n\n\n\n\n\n\n\nPick up the line and prepare for a performance where anything can happen! In 1-800 Nonsense\, the Growing In The Arts Senior and Junior Companies take you on a high-energy journey through theatre and performance. Whether you’re looking for a laugh\, a moment of drama\, or a bit of unpredictable chaos\, this show has it all. Our talented young performers will lead you through a variety of scenes and styles that prove “nonsense” is often where the most creativity is found! \n\n\n\n*featuring student written and directed material. \n\n\n\nTICKETS Cash or e-transfer at the door.Youth (17 & under): $15Adults: $20
URL:https://registrytheatre.com/event/1-800-nonsense/
CATEGORIES:Rental Events
ATTACH;FMTTYPE=image/jpeg:https://registrytheatre.com/wp-content/uploads/2026/03/1-800-Nonsence-Gita-Ashley.jpg
END:VEVENT
BEGIN:VEVENT
DTSTART;TZID=America/Toronto:20260423T193000
DTEND;TZID=America/Toronto:20260423T213000
DTSTAMP:20260422T181715
CREATED:20260302T164854Z
LAST-MODIFIED:20260302T164856Z
UID:10001067-1776972600-1776979800@registrytheatre.com
SUMMARY:THAT 70's ROCK SHOW
DESCRIPTION:Presented by Kevin O’Donnell \n\n\n\n\n\n\n\n\n\nA Tribute to the greatest decade in Rock Music \n\n\n\n$30.00 plus fees\, online\, or $35 at the door\, \n\n\n\n\n\nPresented by:
URL:https://registrytheatre.com/event/that-70s-rock-show-2/
LOCATION:The Registry Theatre\, 122 Frederick Street\, Kitchener\, ON\, N2H 2L9\, Canada
CATEGORIES:Rental Events
ATTACH;FMTTYPE=image/png:https://registrytheatre.com/wp-content/uploads/2026/02/unnamed-3.png
ORGANIZER;CN="Kevin O'Donnell":MAILTO:info@that70srockshow.com
END:VEVENT
BEGIN:VEVENT
DTSTART;TZID=America/Toronto:20260508T160000
DTEND;TZID=America/Toronto:20260508T180000
DTSTAMP:20260422T181715
CREATED:20260319T190941Z
LAST-MODIFIED:20260323T183458Z
UID:10001079-1778256000-1778263200@registrytheatre.com
SUMMARY:FATHER AND SON Duelling Pianos
DESCRIPTION:Presented by Thunderdome Sounds/ Eddie Bullen \n\n\n\n\n\n\n\n\n\nFather and Son Duelling Pianos is a high-energy\, narrative-driven musical production featuring Juno Award-winning pianist Eddie Bullen and his son\, the multitalented Quincy Bullen. More than a standard concert\, the show serves as a musical autobiography\, tracing the journey of a father passing his legacy of excellence to his son.  \n\n\n\nThe Performance Dynamic The show’s title is literal: the two performers face one another\, each behind a grand piano\, in a “friendly competition.” This “duel” is characterized by: * Musical Sparring: They trade solos and improvise in real-time\, often pushing each other to higher levels of technical difficulty. * Intergenerational Dialogue: The performance is punctuated by storytelling and banter\, sharing the “pain and joy” of their relationship—including the rigorous practice schedules Eddie set for a young Quincy. * Collaborative Harmony: Despite the competitive framing\, the show emphasizes their deep bond\, showing how they “pick each other up” through improvisation when one takes a risk on stage. Musical Repertoire The duo masterfully blends a wide array of genres to represent their diverse influences and history: * Jazz & Blues: Honoring legends like Oscar Peterson (a major influence on both) and performing complex arrangements like John Coltrane’s “Giant Steps.” * Caribbean Roots: In celebration of Eddie’s Grenadian heritage\, they incorporate Calypso and Reggae rhythms into their piano arrangements. * Classical & Pop: They bridge the gap between Quincy’s Royal Conservatory training and modern tastes\, often mashing up classical pieces with contemporary hits from artists like Rihanna or The Notorious B.I.G. A Story of EvolutionOriginally launched to explore the “tutelage” phase of their relationship\, the production has evolved. While earlier shows focused on the father preparing the son\, more recent iterations celebrate Quincy’s emergence as a renowned performer and actor in his own right\, shifting the dynamic from teacher-student to two masters sharing one stage. \n\n\n\nTickets: $30.00  \n\n\n\n\n\nPresented by:
URL:https://registrytheatre.com/event/father-and-son-duelling-pianos/2026-05-08/1/
LOCATION:The Registry Theatre\, 122 Frederick Street\, Kitchener\, ON\, N2H 2L9\, Canada
CATEGORIES:Rental Events
ATTACH;FMTTYPE=image/jpeg:https://registrytheatre.com/wp-content/uploads/2026/03/QE-copy-Eddie-Bullen-THUNDER-DOME-SOUNDS-scaled.jpg
ORGANIZER;CN="Thunderdome Sounds":MAILTO:studio@eddiebullen.com
END:VEVENT
BEGIN:VEVENT
DTSTART;TZID=America/Toronto:20260508T193000
DTEND;TZID=America/Toronto:20260508T213000
DTSTAMP:20260422T181715
CREATED:20260319T190941Z
LAST-MODIFIED:20260323T183458Z
UID:10001080-1778268600-1778275800@registrytheatre.com
SUMMARY:FATHER AND SON Duelling Pianos
DESCRIPTION:Presented by Thunderdome Sounds/ Eddie Bullen \n\n\n\n\n\n\n\n\n\nFather and Son Duelling Pianos is a high-energy\, narrative-driven musical production featuring Juno Award-winning pianist Eddie Bullen and his son\, the multitalented Quincy Bullen. More than a standard concert\, the show serves as a musical autobiography\, tracing the journey of a father passing his legacy of excellence to his son.  \n\n\n\nThe Performance Dynamic The show’s title is literal: the two performers face one another\, each behind a grand piano\, in a “friendly competition.” This “duel” is characterized by: * Musical Sparring: They trade solos and improvise in real-time\, often pushing each other to higher levels of technical difficulty. * Intergenerational Dialogue: The performance is punctuated by storytelling and banter\, sharing the “pain and joy” of their relationship—including the rigorous practice schedules Eddie set for a young Quincy. * Collaborative Harmony: Despite the competitive framing\, the show emphasizes their deep bond\, showing how they “pick each other up” through improvisation when one takes a risk on stage. Musical Repertoire The duo masterfully blends a wide array of genres to represent their diverse influences and history: * Jazz & Blues: Honoring legends like Oscar Peterson (a major influence on both) and performing complex arrangements like John Coltrane’s “Giant Steps.” * Caribbean Roots: In celebration of Eddie’s Grenadian heritage\, they incorporate Calypso and Reggae rhythms into their piano arrangements. * Classical & Pop: They bridge the gap between Quincy’s Royal Conservatory training and modern tastes\, often mashing up classical pieces with contemporary hits from artists like Rihanna or The Notorious B.I.G. A Story of EvolutionOriginally launched to explore the “tutelage” phase of their relationship\, the production has evolved. While earlier shows focused on the father preparing the son\, more recent iterations celebrate Quincy’s emergence as a renowned performer and actor in his own right\, shifting the dynamic from teacher-student to two masters sharing one stage. \n\n\n\nTickets: $30.00  \n\n\n\n\n\nPresented by:
URL:https://registrytheatre.com/event/father-and-son-duelling-pianos/2026-05-08/2/
LOCATION:The Registry Theatre\, 122 Frederick Street\, Kitchener\, ON\, N2H 2L9\, Canada
CATEGORIES:Rental Events
ATTACH;FMTTYPE=image/jpeg:https://registrytheatre.com/wp-content/uploads/2026/03/QE-copy-Eddie-Bullen-THUNDER-DOME-SOUNDS-scaled.jpg
ORGANIZER;CN="Thunderdome Sounds":MAILTO:studio@eddiebullen.com
END:VEVENT
BEGIN:VEVENT
DTSTART;TZID=America/Toronto:20260514T183000
DTEND;TZID=America/Toronto:20260514T203000
DTSTAMP:20260422T181715
CREATED:20260422T212742Z
LAST-MODIFIED:20260422T212747Z
UID:10001090-1778783400-1778790600@registrytheatre.com
SUMMARY:From The Top Step Creative Collective
DESCRIPTION:Growing In The Arts School of Dramatic & Cinema Arts \n\n\n\n\n\n\n\n\n\nA year-end theatre showcase performed by award winning youth actors.Fun for the entire family! \n\n\n\nTICKETS: Adult: $20. Youth (17&under): $15To request tickets please email gita.tickets@gmail.com or pay with cash at the door.
URL:https://registrytheatre.com/event/from-the-top-step-creative-collective/
CATEGORIES:Rental Events
ATTACH;FMTTYPE=image/jpeg:https://registrytheatre.com/wp-content/uploads/2026/04/From-The-Top-Step-Gita-Ashley.jpg
END:VEVENT
BEGIN:VEVENT
DTSTART;TZID=America/Toronto:20260515T200000
DTEND;TZID=America/Toronto:20260515T220000
DTSTAMP:20260422T181715
CREATED:20260422T205151Z
LAST-MODIFIED:20260422T205158Z
UID:10001086-1778875200-1778882400@registrytheatre.com
SUMMARY:Sve mi diraj\, ocevinu ne 2 - Opstanak
DESCRIPTION:Presented by Tieventi inc. \n\n\n\n\n\n\n\n\n\nTheatre play comedy about Mima and Musa being married for 25 years.Doors open at 7:20pm. 18+Tickets: $55\, available online by credit or debit also hardcopy tickets in Serbian stores for cash. \n\n\n\n\n\nWho to contact for event info and inquiries:
URL:https://registrytheatre.com/event/sve-mi-diraj-ocevinu-ne-2-opstanak/
CATEGORIES:Rental Events
ATTACH;FMTTYPE=image/png:https://registrytheatre.com/wp-content/uploads/2026/04/Black-Orange-Bold-Modern-Mystery-Movie-Poster_20260412_174720_0000-Tamara-Ivanis.png
ORGANIZER;CN="Tieventi inc.":MAILTO:tieventi19@gmail.com
END:VEVENT
BEGIN:VEVENT
DTSTART;TZID=America/Toronto:20260605T210000
DTEND;TZID=America/Toronto:20260605T230000
DTSTAMP:20260422T181715
CREATED:20260422T210724Z
LAST-MODIFIED:20260422T210730Z
UID:10001088-1780693200-1780700400@registrytheatre.com
SUMMARY:MADAME CAENEUS'S CANTEEN
DESCRIPTION:Presented by Open Ears Festival \n\n\n\n\n\n\n\n\n\nANIMA & the Open Ears Festival co-present the world premiere of Mme Caeneus’s Canteen. A transy chamber opera set in the queer world of Mme Caeneus’s\, a ‘locker club’ in WWII America\, where host/ess Lucy (‘Mme Caeneus’) holds space for transformation in the midst of a polarized world. Madame Caeneus’s Canteen! A beggar can become a queen\, a queen become a corporal\, the corporal can trade his stripes for civvies of a Friday night — … Two intersecting gender transitions unfold against the backdrop of the sexual\, gender\, and racial politics of the 1940s U.S. — and beyond that\, against the backdrop of the bronze-age transition story which a group of soldiers are acting out in their ‘blueprint special’ drag revue. A story of queer solidarity\, love\, and chosen family\, this opera resonates in and for our own time. music by James Rolfe words by Luke Hathaway with contributions from asitha tennekoon අසිත තෙන්නකෝන් directed by Henry Oswald Peirson musical direction by Juliet Palmer technical direction and lighting design by Jasmine Rajaballey stage management by Paula Bornacelli costume design by Rachel Kaufman Behling artist-care consultant Claire Yurkovich Featuring: Martin Gomes (Lucy) asitha tennekoon අසිත තෙන්නකෝන් (Eugene) Lesley Emma Bouza (Remi) Paul Genyk-Berezowsky (Ben) Ryan McDonald (Pat) Daniel Cabena (Bird) Mme Caeneus’s house band: Phil Albert (electric bass) Richard Burrows (percussion) Juliet Palmer (bandleader/clarinet) Matti Pulkki (accordion) Philipp Samutin (violin) Supported by the Canada Council for the Arts.Some mature subject matter \n\n\n\nTickets: $30 | $5 student with ID
URL:https://registrytheatre.com/event/madame-caeneuss-canteen/
CATEGORIES:Rental Events
ATTACH;FMTTYPE=image/png:https://registrytheatre.com/wp-content/uploads/2026/04/ANIMA_8.5x11-Daniel-Cabena-scaled.png
END:VEVENT
BEGIN:VEVENT
DTSTART;TZID=America/Toronto:20260704T190000
DTEND;TZID=America/Toronto:20260704T210000
DTSTAMP:20260422T181715
CREATED:20260422T203620Z
LAST-MODIFIED:20260422T203625Z
UID:10001085-1783191600-1783198800@registrytheatre.com
SUMMARY:Improv-a-llama!
DESCRIPTION:Presented by TriCity Improv \n\n\n\n\n\n\n\n\n\nA full night of improv\, presented by the region’s top comedy troupes!Occasional adult themes (if it were a film\, it would be rated 14A)Tickets: $15\, available at the door\, or online \n\n\n\n\n\nWho to contact for event info and inquiries:
URL:https://registrytheatre.com/event/improv-a-llama-2/
CATEGORIES:Rental Events
ATTACH;FMTTYPE=image/webp:https://registrytheatre.com/wp-content/uploads/2026/04/Improvallama-Bernie-Roehl.webp
ORGANIZER;CN="TriCity Improv":MAILTO:improv.tricity@gmail.com
END:VEVENT
END:VCALENDAR