BEGIN:VCALENDAR
VERSION:2.0
PRODID:-//The Registry Theatre - ECPv6.15.20//NONSGML v1.0//EN
CALSCALE:GREGORIAN
METHOD:PUBLISH
X-WR-CALNAME:The Registry Theatre
X-ORIGINAL-URL:https://registrytheatre.com
X-WR-CALDESC:Events for The Registry Theatre
REFRESH-INTERVAL;VALUE=DURATION:PT1H
X-Robots-Tag:noindex
X-PUBLISHED-TTL:PT1H
BEGIN:VTIMEZONE
TZID:America/Toronto
BEGIN:DAYLIGHT
TZOFFSETFROM:-0500
TZOFFSETTO:-0400
TZNAME:EDT
DTSTART:20240310T070000
END:DAYLIGHT
BEGIN:STANDARD
TZOFFSETFROM:-0400
TZOFFSETTO:-0500
TZNAME:EST
DTSTART:20241103T060000
END:STANDARD
BEGIN:DAYLIGHT
TZOFFSETFROM:-0500
TZOFFSETTO:-0400
TZNAME:EDT
DTSTART:20250309T070000
END:DAYLIGHT
BEGIN:STANDARD
TZOFFSETFROM:-0400
TZOFFSETTO:-0500
TZNAME:EST
DTSTART:20251102T060000
END:STANDARD
BEGIN:DAYLIGHT
TZOFFSETFROM:-0500
TZOFFSETTO:-0400
TZNAME:EDT
DTSTART:20260308T070000
END:DAYLIGHT
BEGIN:STANDARD
TZOFFSETFROM:-0400
TZOFFSETTO:-0500
TZNAME:EST
DTSTART:20261101T060000
END:STANDARD
END:VTIMEZONE
BEGIN:VEVENT
DTSTART;TZID=America/Toronto:20251205T193000
DTEND;TZID=America/Toronto:20251205T220000
DTSTAMP:20260422T003421
CREATED:20251113T043039Z
LAST-MODIFIED:20251129T171152Z
UID:10001018-1764963000-1764972000@registrytheatre.com
SUMMARY:DANNY MICHEL
DESCRIPTION:PRESENTED BY: DANNY MICHEL\n\n\n\n\n\n\n\n\n\nThe only good thing about NOT shopping in record stores like the good ol’ days is you won’t have to figure out what genre to look for Danny under. If that WERE the case\, you could try looking under\, rock/pop\, folk\, world or (recently) even classical. \n\n\n\nHis own self-described musical A.D.D. has kept his music fresh for decades now. Thoughtful lyrics & charming performances have earned him a devoted fan base\, nominations for three Juno awards\, The Polaris Prize\, and The CBC’s “Heart Of Gold”\, and most recently winning the CFMA’s “Producer of the year” and “Oliver Schroer Pushing the Boundries” Awards. \n\n\n\nTickets: $49.79
URL:https://registrytheatre.com/event/danny-michel-2/
CATEGORIES:Rental Events
ATTACH;FMTTYPE=image/jpeg:https://registrytheatre.com/wp-content/uploads/2025/11/Danny-Michel-d45y9r.jpg
END:VEVENT
BEGIN:VEVENT
DTSTART;TZID=America/Toronto:20251209T190000
DTEND;TZID=America/Toronto:20251209T220000
DTSTAMP:20260422T003421
CREATED:20251128T172054Z
LAST-MODIFIED:20251129T171626Z
UID:10001029-1765306800-1765317600@registrytheatre.com
SUMMARY:LET'S DANCE SHOWCASE
DESCRIPTION:PRESENTED BY: 3DZ DANCE STUDIO\n\n\n\n\n\n\n\n\n\n✨ 3Dz 2025 End of Year Dance Showcase ✨  \n\n\n\nJoin us for an unforgettable evening as our kids\, teens\, and adult dancers take the stage to celebrate everything they’ve learned this season! From K-pop to jazz funk to beginner foundations\, this showcase is all about confidence\, growth\, and pure dance joy. \n\n\n\nTickets: $15 + HST ($16.95） \n\n\n\n\n\n\n\n\n\nFor event information\, please contact:
URL:https://registrytheatre.com/event/lets-dance-showcase/
CATEGORIES:Rental Events
ATTACH;FMTTYPE=image/png:https://registrytheatre.com/wp-content/uploads/2025/11/Showcase-1-3Dz-Dance.png
ORGANIZER;CN="3Dz Dance Studio":MAILTO:info@3dzdancestudio.com
END:VEVENT
BEGIN:VEVENT
DTSTART;TZID=America/Toronto:20251212T193000
DTEND;TZID=America/Toronto:20251212T220000
DTSTAMP:20260422T003421
CREATED:20251030T151116Z
LAST-MODIFIED:20251212T163650Z
UID:10001009-1765567800-1765576800@registrytheatre.com
SUMMARY:SOLD OUT - WELCOME CHRISTMAS with Jacob Moon\, Ali Matthews & Mike Janzen
DESCRIPTION:PRESENTED BY: JACOB MOON\n\n\n\n\n\n\n\n\n\nJoin us as we bring you an inspired evening of some of our favorite carols and holiday songs in an epic reunion of 3 artists that have been making music for 25 years. Jacob Moon is a celebrated singer/songwriter/performer who has toured internationally and released his 12th album a few years ago. Ali Matthews has dozens of songwriting awards and has toured Canada for a quarter century\, delighting audiences everywhere she goes with her well crafted songs and storytelling. Mike Janzen is a Juno nominated artist who has released several award winning jazz albums and is a celebrated composer/arranger and pianist. Together these three artists will perform some of the most beloved music of this time of year\, including some original compositions from their vast collective catalog of songs. \n\n\n\nTickets $49.79 \n\n\n\nTHIS SHOW IS SOLD OUT! \n\n\n\n\n\n\n\nFor event information\, please contact:
URL:https://registrytheatre.com/event/welcome-christmas-with-jacob-moon-ali-matthews-mike-janzen/
CATEGORIES:Rental Events
ATTACH;FMTTYPE=image/jpeg:https://registrytheatre.com/wp-content/uploads/2025/10/Welcome-Christmas-Registry-16x9-1-scaled-vN7Fll.jpg
END:VEVENT
BEGIN:VEVENT
DTSTART;TZID=America/Toronto:20251217T190000
DTEND;TZID=America/Toronto:20251217T210000
DTSTAMP:20260422T003421
CREATED:20251129T152315Z
LAST-MODIFIED:20251129T172349Z
UID:10001024-1765998000-1766005200@registrytheatre.com
SUMMARY:SOMETHING ROTTEN! JR
DESCRIPTION:PRESENTED BY: ACTOUT! KITCHENER-WATERLOO CHILRDEN’S DRAMA WORKSHOP\n\n\n\n\n\n\n\n\n\nTravel back to the Renaissance for an hour of musical comedy gold in Something Rotten! JR. Adapted from the Broadway hit that Time Out New York hailed as “the funniest musical comedy in at least 400 years\,” Something Rotten! JR. celebrates one undeniable truth: “nothing’s as amazing as a musical!”  \n\n\n\nIn the 1590s\, brothers Nick and Nigel Bottom are desperate to write a hit play but are stuck in the shadow of that Renaissance rock star known as “The Bard.” When a local soothsayer foretells that the future of theatre involves singing\, dancing and acting at the same time\, Nick and Nigel set out to write the world’s very first musical. But amidst the scandalous excitement of opening night\, the Bottom Brothers realize that reaching the top means being true to thine own self\, and all that jazz. Something Rotten! JR. features large song and dance numbers\, and a wacky cast of over-the-top characters\, each with their own moment to shine. \n\n\n\nShow Dates:December 17-20\, 7pmDecember 20\, 1:30pm \n\n\n\nTickets: $25 Regular\, $15 Senior & Youth\, $5 Children \n\n\n\n\n\n\n\n\n\nFor event information\, please contact:
URL:https://registrytheatre.com/event/something-rotten-jr-2/
CATEGORIES:Rental Events
ATTACH;FMTTYPE=image/png:https://registrytheatre.com/wp-content/uploads/2025/11/actout-SR-Insta-Board-Chair.png
END:VEVENT
BEGIN:VEVENT
DTSTART;TZID=America/Toronto:20251218T190000
DTEND;TZID=America/Toronto:20251218T210000
DTSTAMP:20260422T003421
CREATED:20251129T152501Z
LAST-MODIFIED:20251129T172509Z
UID:10001025-1766084400-1766091600@registrytheatre.com
SUMMARY:SOMETHING ROTTEN! JR
DESCRIPTION:PRESENTED BY: ACTOUT! KITCHENER-WATERLOO CHILRDEN’S DRAMA WORKSHOP\n\n\n\n\n\n\n\n\n\nTravel back to the Renaissance for an hour of musical comedy gold in Something Rotten! JR. Adapted from the Broadway hit that Time Out New York hailed as “the funniest musical comedy in at least 400 years\,” Something Rotten! JR. celebrates one undeniable truth: “nothing’s as amazing as a musical!”  \n\n\n\nIn the 1590s\, brothers Nick and Nigel Bottom are desperate to write a hit play but are stuck in the shadow of that Renaissance rock star known as “The Bard.” When a local soothsayer foretells that the future of theatre involves singing\, dancing and acting at the same time\, Nick and Nigel set out to write the world’s very first musical. But amidst the scandalous excitement of opening night\, the Bottom Brothers realize that reaching the top means being true to thine own self\, and all that jazz. Something Rotten! JR. features large song and dance numbers\, and a wacky cast of over-the-top characters\, each with their own moment to shine. \n\n\n\nShow Dates:December 17-20\, 7pmDecember 20\, 1:30pm \n\n\n\nTickets: $25 Regular\, $15 Senior & Youth\, $5 Children \n\n\n\n\n\n\n\n\n\nFor event information\, please contact:
URL:https://registrytheatre.com/event/something-rotten-jr-3/
CATEGORIES:Rental Events
ATTACH;FMTTYPE=image/png:https://registrytheatre.com/wp-content/uploads/2025/11/actout-SR-Insta-Board-Chair.png
END:VEVENT
BEGIN:VEVENT
DTSTART;TZID=America/Toronto:20251219T190000
DTEND;TZID=America/Toronto:20251219T210000
DTSTAMP:20260422T003421
CREATED:20251129T152805Z
LAST-MODIFIED:20251129T172602Z
UID:10001026-1766170800-1766178000@registrytheatre.com
SUMMARY:SOMETHING ROTTEN! JR
DESCRIPTION:PRESENTED BY: ACTOUT! KITCHENER-WATERLOO CHILRDEN’S DRAMA WORKSHOP\n\n\n\n\n\n\n\n\n\nTravel back to the Renaissance for an hour of musical comedy gold in Something Rotten! JR. Adapted from the Broadway hit that Time Out New York hailed as “the funniest musical comedy in at least 400 years\,” Something Rotten! JR. celebrates one undeniable truth: “nothing’s as amazing as a musical!”  \n\n\n\nIn the 1590s\, brothers Nick and Nigel Bottom are desperate to write a hit play but are stuck in the shadow of that Renaissance rock star known as “The Bard.” When a local soothsayer foretells that the future of theatre involves singing\, dancing and acting at the same time\, Nick and Nigel set out to write the world’s very first musical. But amidst the scandalous excitement of opening night\, the Bottom Brothers realize that reaching the top means being true to thine own self\, and all that jazz. Something Rotten! JR. features large song and dance numbers\, and a wacky cast of over-the-top characters\, each with their own moment to shine. \n\n\n\nShow Dates:December 17-20\, 7pmDecember 20\, 1:30pm \n\n\n\nTickets: $25 Regular\, $15 Senior & Youth\, $5 Children \n\n\n\n\n\n\n\n\n\nFor event information\, please contact:
URL:https://registrytheatre.com/event/something-rotten-jr-4/
CATEGORIES:Rental Events
ATTACH;FMTTYPE=image/png:https://registrytheatre.com/wp-content/uploads/2025/11/actout-SR-Insta-Board-Chair.png
END:VEVENT
BEGIN:VEVENT
DTSTART;TZID=America/Toronto:20251220T133000
DTEND;TZID=America/Toronto:20251220T153000
DTSTAMP:20260422T003421
CREATED:20251129T152922Z
LAST-MODIFIED:20251129T172711Z
UID:10001027-1766237400-1766244600@registrytheatre.com
SUMMARY:SOMETHING ROTTEN! JR
DESCRIPTION:PRESENTED BY: ACTOUT! KITCHENER-WATERLOO CHILRDEN’S DRAMA WORKSHOP\n\n\n\n\n\n\n\n\n\nTravel back to the Renaissance for an hour of musical comedy gold in Something Rotten! JR. Adapted from the Broadway hit that Time Out New York hailed as “the funniest musical comedy in at least 400 years\,” Something Rotten! JR. celebrates one undeniable truth: “nothing’s as amazing as a musical!”  \n\n\n\nIn the 1590s\, brothers Nick and Nigel Bottom are desperate to write a hit play but are stuck in the shadow of that Renaissance rock star known as “The Bard.” When a local soothsayer foretells that the future of theatre involves singing\, dancing and acting at the same time\, Nick and Nigel set out to write the world’s very first musical. But amidst the scandalous excitement of opening night\, the Bottom Brothers realize that reaching the top means being true to thine own self\, and all that jazz. Something Rotten! JR. features large song and dance numbers\, and a wacky cast of over-the-top characters\, each with their own moment to shine. \n\n\n\nShow Dates:December 17-20\, 7pmDecember 20\, 1:30pm \n\n\n\nTickets: $25 Regular\, $15 Senior & Youth\, $5 Children \n\n\n\n\n\n\n\n\n\nFor event information\, please contact:
URL:https://registrytheatre.com/event/something-rotten-jr-5/
CATEGORIES:Rental Events
ATTACH;FMTTYPE=image/png:https://registrytheatre.com/wp-content/uploads/2025/11/actout-SR-Insta-Board-Chair.png
END:VEVENT
BEGIN:VEVENT
DTSTART;TZID=America/Toronto:20251220T190000
DTEND;TZID=America/Toronto:20251220T210000
DTSTAMP:20260422T003421
CREATED:20251129T153137Z
LAST-MODIFIED:20251129T172927Z
UID:10001028-1766257200-1766264400@registrytheatre.com
SUMMARY:SOMETHING ROTTEN! JR
DESCRIPTION:PRESENTED BY: ACTOUT! KITCHENER-WATERLOO CHILRDEN’S DRAMA WORKSHOP\n\n\n\n\n\n\n\n\n\nTravel back to the Renaissance for an hour of musical comedy gold in Something Rotten! JR. Adapted from the Broadway hit that Time Out New York hailed as “the funniest musical comedy in at least 400 years\,” Something Rotten! JR. celebrates one undeniable truth: “nothing’s as amazing as a musical!”  \n\n\n\nIn the 1590s\, brothers Nick and Nigel Bottom are desperate to write a hit play but are stuck in the shadow of that Renaissance rock star known as “The Bard.” When a local soothsayer foretells that the future of theatre involves singing\, dancing and acting at the same time\, Nick and Nigel set out to write the world’s very first musical. But amidst the scandalous excitement of opening night\, the Bottom Brothers realize that reaching the top means being true to thine own self\, and all that jazz. Something Rotten! JR. features large song and dance numbers\, and a wacky cast of over-the-top characters\, each with their own moment to shine. \n\n\n\nShow Dates:December 17-20\, 7pmDecember 20\, 1:30pm \n\n\n\nTickets: $25 Regular\, $15 Senior & Youth\, $5 Children \n\n\n\n\n\n\n\n\n\nFor event information\, please contact:
URL:https://registrytheatre.com/event/something-rotten-jr-6/
CATEGORIES:Rental Events
ATTACH;FMTTYPE=image/png:https://registrytheatre.com/wp-content/uploads/2025/11/actout-SR-Insta-Board-Chair.png
END:VEVENT
BEGIN:VEVENT
DTSTART;TZID=America/Toronto:20251231T200000
DTEND;TZID=America/Toronto:20251231T220000
DTSTAMP:20260422T003421
CREATED:20251210T205814Z
LAST-MODIFIED:20251210T205818Z
UID:10001035-1767211200-1767218400@registrytheatre.com
SUMMARY:THE BIG RIPPER: Roast of 2025
DESCRIPTION:Presented by Berlin Comedy \n\n\n\n\n\n\n\n\n\n🎤 Ring in 2026 with your favourite degenerates at the Roast of 2025! 🎉 \n\n\n\nJoin us on New Year’s Eve – December 31\, 2025 at the historic Registry Theatre in Downtown Kitchener for a night of sharp wit\, unfiltered fun\, and comedic chaos as we bid farewell to the year. \n\n\n\n🔥 Headlining the night is Canada’s own roastmaster Tyler Morrison\, taking the stage for a no-holds-barred Roast of 2025 — because if the year’s going out\, it might as well go down in flames. \n\n\n\n🕖 Doors open at 7:00pm🎭 Show starts at 8:00pm \n\n\n\n🎟️ Tickets $30 in advance or $35 at the door – Ages 19+🍹 Enjoy a curated selection of alcoholic and non-alcoholic drinks served by the one and only Grand Trunk Saloon⏸️ Includes a 30-minute intermission to refresh\, mingle\, or question your life choices \n\n\n\n🎟️ Seating is first-come\, first-served.For groups of 6+ or to discuss accessibility accommodations\, please get in touch with Emma at emma.vdj@gmail.com. \n\n\n\n⭐ Last year’s event sold out fast – so grab your tickets early and come laugh your way into 2026!
URL:https://registrytheatre.com/event/the-big-ripper-roast-of-2025/
CATEGORIES:Rental Events
ATTACH;FMTTYPE=image/jpeg:https://registrytheatre.com/wp-content/uploads/2025/12/event56896.jpg
END:VEVENT
END:VCALENDAR