BEGIN:VCALENDAR
VERSION:2.0
PRODID:-//The Registry Theatre - ECPv6.15.20//NONSGML v1.0//EN
CALSCALE:GREGORIAN
METHOD:PUBLISH
X-ORIGINAL-URL:https://registrytheatre.com
X-WR-CALDESC:Events for The Registry Theatre
REFRESH-INTERVAL;VALUE=DURATION:PT1H
X-Robots-Tag:noindex
X-PUBLISHED-TTL:PT1H
BEGIN:VTIMEZONE
TZID:America/Toronto
BEGIN:DAYLIGHT
TZOFFSETFROM:-0500
TZOFFSETTO:-0400
TZNAME:EDT
DTSTART:20240310T070000
END:DAYLIGHT
BEGIN:STANDARD
TZOFFSETFROM:-0400
TZOFFSETTO:-0500
TZNAME:EST
DTSTART:20241103T060000
END:STANDARD
BEGIN:DAYLIGHT
TZOFFSETFROM:-0500
TZOFFSETTO:-0400
TZNAME:EDT
DTSTART:20250309T070000
END:DAYLIGHT
BEGIN:STANDARD
TZOFFSETFROM:-0400
TZOFFSETTO:-0500
TZNAME:EST
DTSTART:20251102T060000
END:STANDARD
BEGIN:DAYLIGHT
TZOFFSETFROM:-0500
TZOFFSETTO:-0400
TZNAME:EDT
DTSTART:20260308T070000
END:DAYLIGHT
BEGIN:STANDARD
TZOFFSETFROM:-0400
TZOFFSETTO:-0500
TZNAME:EST
DTSTART:20261101T060000
END:STANDARD
END:VTIMEZONE
BEGIN:VEVENT
DTSTART;TZID=America/Toronto:20251107T190000
DTEND;TZID=America/Toronto:20251107T210000
DTSTAMP:20260422T015609
CREATED:20251030T151116Z
LAST-MODIFIED:20251103T185802Z
UID:10001012-1762542000-1762549200@registrytheatre.com
SUMMARY:OOPS! A Live Comedy Special About Fleeing America
DESCRIPTION:PRESENTED BY Emme Kay Kennedy \n\n\n\n\n\n\n\n\n\nEver had some major late-in-life discoveries about yourself totally derail everything? OOPS! Emme talks about her year of chaos and change which leads to her fleeing America in this live recorded semi-improvised comedy special event! *Note: the audience will be recorded along with the performer\, as she’ll be talking to and interacting (gently!) with you! So sit in the back if you don’t want to end up on YouTube 🙂 \n\n\n\n18+ \n\n\n\nTickets: $25(15 available for students/artists\, no one turned away for lack of funds\, you can pay $40 or more if you’d like to subsidize the tickets of others or support the life of a marginalized queer artist!)Buy online\, or cash & credit tickets available at the door.
URL:https://registrytheatre.com/event/oops-a-live-comedy-special-about-fleeing-america/
CATEGORIES:Rental Events
ATTACH;FMTTYPE=image/png:https://registrytheatre.com/wp-content/uploads/2025/10/Copy-of-Copy-of-Copy-of-oops-1-emme-kennedy-1024x1024-1.png
END:VEVENT
BEGIN:VEVENT
DTSTART;TZID=America/Toronto:20251115T140000
DTEND;TZID=America/Toronto:20251115T160000
DTSTAMP:20260422T015609
CREATED:20251030T151116Z
LAST-MODIFIED:20251113T035721Z
UID:10001010-1763215200-1763222400@registrytheatre.com
SUMMARY:THE MAGIC TREEHOUSE
DESCRIPTION:Presented by Growing In The Arts School of Dramatic\, Expressive & Cinema Arts \n\n\n\n\n\n\n\nTwo sisters climb back into their enchanted childhood tree house bursting with sparkle\, mischief\, and magical toys that spring to life! Together with the audience\, they laugh\, and play through wild adventures that reveal a timeless secret: we don’t stop playing because we grow old…we grow old because we stop playing.  \n\n\n\n(This production briefly uses a smoke machine.) \n\n\n\n\n\nTickets:Wee Sparks (11& under): $13Youth (17 & under): $15Adult: $20.
URL:https://registrytheatre.com/event/the-magic-treehouse/2025-11-15/1/
CATEGORIES:Rental Events
ATTACH;FMTTYPE=image/jpeg:https://registrytheatre.com/wp-content/uploads/2025/10/MAGIC-TREE-HOUSE-PUBLIC-POSTER-Gita-Ashley-UCZZob.jpg
END:VEVENT
BEGIN:VEVENT
DTSTART;TZID=America/Toronto:20251115T190000
DTEND;TZID=America/Toronto:20251115T210000
DTSTAMP:20260422T015609
CREATED:20251030T151116Z
LAST-MODIFIED:20251113T035721Z
UID:10001015-1763233200-1763240400@registrytheatre.com
SUMMARY:THE MAGIC TREEHOUSE
DESCRIPTION:Presented by Growing In The Arts School of Dramatic\, Expressive & Cinema Arts \n\n\n\n\n\n\n\nTwo sisters climb back into their enchanted childhood tree house bursting with sparkle\, mischief\, and magical toys that spring to life! Together with the audience\, they laugh\, and play through wild adventures that reveal a timeless secret: we don’t stop playing because we grow old…we grow old because we stop playing.  \n\n\n\n(This production briefly uses a smoke machine.) \n\n\n\n\n\nTickets:Wee Sparks (11& under): $13Youth (17 & under): $15Adult: $20.
URL:https://registrytheatre.com/event/the-magic-treehouse/2025-11-15/2/
CATEGORIES:Rental Events
ATTACH;FMTTYPE=image/jpeg:https://registrytheatre.com/wp-content/uploads/2025/10/MAGIC-TREE-HOUSE-PUBLIC-POSTER-Gita-Ashley-UCZZob.jpg
END:VEVENT
BEGIN:VEVENT
DTSTART;TZID=America/Toronto:20251116T150000
DTEND;TZID=America/Toronto:20251116T183000
DTSTAMP:20260422T015609
CREATED:20251030T151116Z
LAST-MODIFIED:20251030T151116Z
UID:10001008-1763305200-1763317800@registrytheatre.com
SUMMARY:POWDERFINGER: A Tribute To Neil Young
DESCRIPTION:Presented by Jay Carraro\n\n\n\n\n\n\n\n\n\nPOWDERFINGER – A Tribute to Neil Young\n\n\n\nGet ready for an unforgettable afternoon at The Registry Theatre on Sunday Nov. 16 (3:00 PM) as Jay Carraro and his friends celebrate the legendary Neil Young. Let their music take you on a journey through the past with songs highlighting the soft folk & country styles of Neil\, as well as the raw energy of the Crazy Horse catalogue! \n\n\n\nIn honour of Neil Young’s 80th birthday\, come get shakey with Powderfinger! \n\n\n\nTickets: $35
URL:https://registrytheatre.com/event/powderfinger-a-tribute-to-neil-young-4/
CATEGORIES:Rental Events
ATTACH;FMTTYPE=image/jpeg:https://registrytheatre.com/wp-content/uploads/2025/10/Powderfinger-Az47a1.jpg
END:VEVENT
BEGIN:VEVENT
DTSTART;TZID=America/Toronto:20251122T193000
DTEND;TZID=America/Toronto:20251122T220000
DTSTAMP:20260422T015609
CREATED:20251113T043045Z
LAST-MODIFIED:20251113T043736Z
UID:10001021-1763839800-1763848800@registrytheatre.com
SUMMARY:OH SO SWEET: A Gordon Lightfoot Tribute
DESCRIPTION:PRESENTED BY Terra Bruce Productions & Classic Lightfoot Live \n\n\n\n\n\n\n\n\n\nExperience the debut of a brand-new Gordon Lightfoot tribute show\, brought to life by the beloved performers of CLASSIC LIGHTFOOT LIVE — John Stinson\, Eric Kidd\, Steve Eyers\, and the rest of the incredible CLL band. \n\n\n\nTickets FREE\, but make sure to reserve your spot\, tickets are limited.
URL:https://registrytheatre.com/event/oh-so-sweet-a-gordon-lightfoot-tribute-2/
CATEGORIES:Rental Events
ATTACH;FMTTYPE=image/jpeg:https://registrytheatre.com/wp-content/uploads/2025/11/rsvp-photo-Franco-Boni-scaled-4WcQj8.jpg
END:VEVENT
BEGIN:VEVENT
DTSTART;TZID=America/Toronto:20251128T183000
DTEND;TZID=America/Toronto:20251128T203000
DTSTAMP:20260422T015609
CREATED:20251113T043044Z
LAST-MODIFIED:20251113T043656Z
UID:10001020-1764354600-1764361800@registrytheatre.com
SUMMARY:CAT IN BOOTS / MAČAK U ČIZMAMA
DESCRIPTION:Presented by ToBlink Studio \n\n\n\n\n\n\n\n\n\nKids theatre play CAT IN BOOTS is a fairy tale about smart cat who uses trickery to gain power\, wealth\, and the hand in marriage of a princess for his penniless and low-born master. \n\n\n\nTickets: Kids $35; Adults $40All ages. from 3 and up
URL:https://registrytheatre.com/event/cat-in-boots-macak-u-cizmama/
CATEGORIES:Rental Events
ATTACH;FMTTYPE=image/jpeg:https://registrytheatre.com/wp-content/uploads/2025/11/1.-KITCHENER-Мачак-у-чизмама-copy-Gordana-Lakovic-684x1024-1.jpg
END:VEVENT
BEGIN:VEVENT
DTSTART;TZID=America/Toronto:20251129T193000
DTEND;TZID=America/Toronto:20251129T220000
DTSTAMP:20260422T015609
CREATED:20251029T191039Z
LAST-MODIFIED:20251129T171118Z
UID:10000972-1764444600-1764453600@registrytheatre.com
SUMMARY:HAPPY TOGETHER! The Sixties Songs of Summer
DESCRIPTION:PRESENTED BY: JEFF SCOTT MUSIC\n\n\n\n\n\n\n\n\n\nA LIVE Concert featuring The Biggest Hits of the 1960’s! A 10 piece orchestra of horns\, strings\, bells\, and whistles… taking you back to the golden age of AM Radio. \n\n\n\nTickets: $45.00 + fees
URL:https://registrytheatre.com/event/happy-together-the-sixties-songs-of-summer/
CATEGORIES:Rental Events
ATTACH;FMTTYPE=image/jpeg:https://registrytheatre.com/wp-content/uploads/2025/10/Happy-together-2025-1.1-Jeff-Scott-791x1024-1.jpeg
END:VEVENT
END:VCALENDAR