BEGIN:VCALENDAR
VERSION:2.0
PRODID:-//The Registry Theatre - ECPv6.15.20//NONSGML v1.0//EN
CALSCALE:GREGORIAN
METHOD:PUBLISH
X-ORIGINAL-URL:https://registrytheatre.com
X-WR-CALDESC:Events for The Registry Theatre
REFRESH-INTERVAL;VALUE=DURATION:PT1H
X-Robots-Tag:noindex
X-PUBLISHED-TTL:PT1H
BEGIN:VTIMEZONE
TZID:America/Toronto
BEGIN:DAYLIGHT
TZOFFSETFROM:-0500
TZOFFSETTO:-0400
TZNAME:EDT
DTSTART:20250309T070000
END:DAYLIGHT
BEGIN:STANDARD
TZOFFSETFROM:-0400
TZOFFSETTO:-0500
TZNAME:EST
DTSTART:20251102T060000
END:STANDARD
BEGIN:DAYLIGHT
TZOFFSETFROM:-0500
TZOFFSETTO:-0400
TZNAME:EDT
DTSTART:20260308T070000
END:DAYLIGHT
BEGIN:STANDARD
TZOFFSETFROM:-0400
TZOFFSETTO:-0500
TZNAME:EST
DTSTART:20261101T060000
END:STANDARD
BEGIN:DAYLIGHT
TZOFFSETFROM:-0500
TZOFFSETTO:-0400
TZNAME:EDT
DTSTART:20270314T070000
END:DAYLIGHT
BEGIN:STANDARD
TZOFFSETFROM:-0400
TZOFFSETTO:-0500
TZNAME:EST
DTSTART:20271107T060000
END:STANDARD
END:VTIMEZONE
BEGIN:VEVENT
DTSTART;TZID=America/Toronto:20260319T200000
DTEND;TZID=America/Toronto:20260319T220000
DTSTAMP:20260422T154320
CREATED:20251029T191039Z
LAST-MODIFIED:20251129T180213Z
UID:10000982-1773950400-1773957600@registrytheatre.com
SUMMARY:THE PHANTOM CARRIAGE (1921)
DESCRIPTION:VOC SILENT FILM HARMONIC\n\n\n\n\n\nFrom the father of Swedish cinema\, Victor Sjöström\, who also stars. The last person to die on New Year’s Eve is doomed to take the reins of Death’s chariot. \n\n\n\nTickets: $20 in advance\, $12 at the door with Food Bank donation \n\n\n\n\n\n\n\n\n\nFor event information\, please contact:
URL:https://registrytheatre.com/event/the-phantom-carriage-1921/
CATEGORIES:Registry Presents Events,VOC Silent Film
ATTACH;FMTTYPE=image/jpeg:https://registrytheatre.com/wp-content/uploads/2025/10/Phantom-Carriage-VOC-25-26-680X1D.jpg
END:VEVENT
BEGIN:VEVENT
DTSTART;TZID=America/Toronto:20260321T193000
DTEND;TZID=America/Toronto:20260321T210000
DTSTAMP:20260422T154320
CREATED:20251029T191309Z
LAST-MODIFIED:20260213T212217Z
UID:10001003-1774121400-1774126800@registrytheatre.com
SUMMARY:POSTPONED - hommage
DESCRIPTION:DANCE @ THE REGISTRY\n\n\n\nPRESENTED BY: BOUCHAR DANSE\n\n\n\n\n\n\n\n\n\nDue to unforeseen circumstances this show will be postponed until next season. Watch for details in our 26-27 Dance @ The Registry series announcement. \n\n\n\n\nSeries Sponsors\n\n\n\n\n\n\n\n\n\n\n\n\n\n\n\n\n\n\n\n\n\n\nFor event information\, please contact:
URL:https://registrytheatre.com/event/hommage/
CATEGORIES:Dance
ATTACH;FMTTYPE=image/jpeg:https://registrytheatre.com/wp-content/uploads/2025/10/Sylvie-Bouchard-25-26-Dance-hommage-photo-1024x700-1.jpg
END:VEVENT
BEGIN:VEVENT
DTSTART;TZID=America/Toronto:20260322T150000
DTEND;TZID=America/Toronto:20260322T170000
DTSTAMP:20260422T154320
CREATED:20251029T191039Z
LAST-MODIFIED:20260210T154758Z
UID:10000980-1774191600-1774198800@registrytheatre.com
SUMMARY:ON THE INSIDE
DESCRIPTION:ONE NIGHT ONLY: LIVE @ THE REGISTRY\n\n\n\nLost & Found Theatre\, Zach Parsons from the 2013 production\n\n\n\nON THE INSIDE BY DONA MASSEL\n\n\n\n\n\nOn The Inside is a Berlin/Kitchener story based on the first hanging in Berlin circa 1898 in the governor’s mansion\, next door to The Registry Theatre. Written by the late Dona Massel\, and originally produced by Lost & Found Theatre\, this staged reading is presented in fond memory of Dona. \n\n\n\nTickets: $25 \n\n\n\n\n\n\nSeries Sponsor\n\n\n\n\n\n\n\n\n\n\n\n\nFor event information\, please contact:
URL:https://registrytheatre.com/event/on-the-inside/
CATEGORIES:Theatre
ATTACH;FMTTYPE=image/jpeg:https://registrytheatre.com/wp-content/uploads/2025/10/On-The-Inside-Zach-Parsons-from-2013-production-this-text-under-the-photo-1024x684-1.jpg
END:VEVENT
END:VCALENDAR