BEGIN:VCALENDAR
VERSION:2.0
PRODID:-//The Registry Theatre - ECPv6.15.20//NONSGML v1.0//EN
CALSCALE:GREGORIAN
METHOD:PUBLISH
X-WR-CALNAME:The Registry Theatre
X-ORIGINAL-URL:https://registrytheatre.com
X-WR-CALDESC:Events for The Registry Theatre
REFRESH-INTERVAL;VALUE=DURATION:PT1H
X-Robots-Tag:noindex
X-PUBLISHED-TTL:PT1H
BEGIN:VTIMEZONE
TZID:America/Toronto
BEGIN:DAYLIGHT
TZOFFSETFROM:-0500
TZOFFSETTO:-0400
TZNAME:EDT
DTSTART:20250309T070000
END:DAYLIGHT
BEGIN:STANDARD
TZOFFSETFROM:-0400
TZOFFSETTO:-0500
TZNAME:EST
DTSTART:20251102T060000
END:STANDARD
BEGIN:DAYLIGHT
TZOFFSETFROM:-0500
TZOFFSETTO:-0400
TZNAME:EDT
DTSTART:20260308T070000
END:DAYLIGHT
BEGIN:STANDARD
TZOFFSETFROM:-0400
TZOFFSETTO:-0500
TZNAME:EST
DTSTART:20261101T060000
END:STANDARD
BEGIN:DAYLIGHT
TZOFFSETFROM:-0500
TZOFFSETTO:-0400
TZNAME:EDT
DTSTART:20270314T070000
END:DAYLIGHT
BEGIN:STANDARD
TZOFFSETFROM:-0400
TZOFFSETTO:-0500
TZNAME:EST
DTSTART:20271107T060000
END:STANDARD
END:VTIMEZONE
BEGIN:VEVENT
DTSTART;TZID=America/Toronto:20260222T190000
DTEND;TZID=America/Toronto:20260222T210000
DTSTAMP:20260422T131249
CREATED:20251029T191039Z
LAST-MODIFIED:20260126T153920Z
UID:10000981-1771786800-1771794000@registrytheatre.com
SUMMARY:SOLD OUT - WHAT YOU WON’T DO FOR LOVE
DESCRIPTION:Presented by The Registry Theatre & Why Not Theatre \n\n\n\n\n\n\n\n\n\n“What’s love got to do with it?” A lot\, according to David Suzuki.After a lifetime devoted to climate activism\, and 50 years of marriage\, internationally-renowned environmentalists David Suzuki and Tara Cullis take the stage in an intimate and inspiring theatre experience.Honest\, warm\, and thought-provoking\, David and Tara share captivating stories\, powerful insights\, and heartfelt moments of humour as they celebrate their love for each other\, their love of the planet\, and love’s capacity to inspire action. \n\n\n\nTHIS SHOW IS SOLD OUT \n\n\n\nTickets: $60 \n\n\n\n\n\n\n\n\n\nFor event information\, please contact:
URL:https://registrytheatre.com/event/what-you-wont-do-for-love/
CATEGORIES:Theatre
ATTACH;FMTTYPE=image/png:https://registrytheatre.com/wp-content/uploads/2025/10/WYWDFL-main-promo-image-scaled.png
END:VEVENT
END:VCALENDAR