BEGIN:VCALENDAR
VERSION:2.0
PRODID:-//The Registry Theatre - ECPv6.15.20//NONSGML v1.0//EN
CALSCALE:GREGORIAN
METHOD:PUBLISH
X-ORIGINAL-URL:https://registrytheatre.com
X-WR-CALDESC:Events for The Registry Theatre
REFRESH-INTERVAL;VALUE=DURATION:PT1H
X-Robots-Tag:noindex
X-PUBLISHED-TTL:PT1H
BEGIN:VTIMEZONE
TZID:America/Toronto
BEGIN:DAYLIGHT
TZOFFSETFROM:-0500
TZOFFSETTO:-0400
TZNAME:EDT
DTSTART:20240310T070000
END:DAYLIGHT
BEGIN:STANDARD
TZOFFSETFROM:-0400
TZOFFSETTO:-0500
TZNAME:EST
DTSTART:20241103T060000
END:STANDARD
BEGIN:DAYLIGHT
TZOFFSETFROM:-0500
TZOFFSETTO:-0400
TZNAME:EDT
DTSTART:20250309T070000
END:DAYLIGHT
BEGIN:STANDARD
TZOFFSETFROM:-0400
TZOFFSETTO:-0500
TZNAME:EST
DTSTART:20251102T060000
END:STANDARD
BEGIN:DAYLIGHT
TZOFFSETFROM:-0500
TZOFFSETTO:-0400
TZNAME:EDT
DTSTART:20260308T070000
END:DAYLIGHT
BEGIN:STANDARD
TZOFFSETFROM:-0400
TZOFFSETTO:-0500
TZNAME:EST
DTSTART:20261101T060000
END:STANDARD
END:VTIMEZONE
BEGIN:VEVENT
DTSTART;TZID=America/Toronto:20251206T200000
DTEND;TZID=America/Toronto:20251206T220000
DTSTAMP:20260422T144854
CREATED:20251029T190019Z
LAST-MODIFIED:20251129T171322Z
UID:10000958-1765051200-1765058400@registrytheatre.com
SUMMARY:THE ARROGANT WORMS
DESCRIPTION:FOLK NIGHT @ THE REGISTRY\n\n\n\n\n\n\n\n\n\nThe Arrogant Worms have spent over three decades making fun of a big dumb world. Their songs have been played on the radio\, the internet\, and in outer space (on the space shuttle Endeavour). The Worms began at Queen’s University in 1991 at the campus radio station CFRC. The Arrogant Worms (Chris Patterson\, Mike McCormick\, and Trevor Strong) have since toured ceaselessly across Canada (and select other parts of the world)\, released 13 albums\, and recorded with the Edmonton Symphony Orchestra. Their Happy Happy birthday song is a viral sensation with over one hundred million views of the various fan videos on YouTube. This is their first visit to Folk Night. \n\n\n\nTickets: $32 in advance\, $35 at the door\, $24 live stream \n\n\n\n\n\n\n\n\n\nFor event information\, please contact:
URL:https://registrytheatre.com/event/__trashed-12/
CATEGORIES:Folk Night,Registry Presents Events
ATTACH;FMTTYPE=image/jpeg:https://registrytheatre.com/wp-content/uploads/2025/10/TheArrogantWorms-6jDH3b.jpg
END:VEVENT
BEGIN:VEVENT
DTSTART;TZID=America/Toronto:20251207T150000
DTEND;TZID=America/Toronto:20251207T170000
DTSTAMP:20260422T144854
CREATED:20251029T191309Z
LAST-MODIFIED:20251206T175613Z
UID:10001001-1765119600-1765126800@registrytheatre.com
SUMMARY:A LOST & FOUND CHRISTMAS - SOLD OUT
DESCRIPTION:The tradition continues with stories and songs of the season. Featuring special guest singer songwriter Michael Kelly Cavan. \n\n\n\nCome one and all.  \n\n\n\nTickets: Pay-What-You-Can at the Door \n\n\n\nAPOLOGIES\, THIS EVENT IS FULLY REGISTERED! \n\n\n\n\n\n\n\nFor event information\, please contact:
URL:https://registrytheatre.com/event/a-lost-found-christmas-4/
CATEGORIES:Registry Presents Events
ATTACH;FMTTYPE=image/jpeg:https://registrytheatre.com/wp-content/uploads/2025/10/Lost-and-Found-Christmas-25-26-photo-DKFBD1.jpg
END:VEVENT
BEGIN:VEVENT
DTSTART;TZID=America/Toronto:20251210T190000
DTEND;TZID=America/Toronto:20251210T201500
DTSTAMP:20260422T144854
CREATED:20251029T191039Z
LAST-MODIFIED:20251129T171723Z
UID:10000971-1765393200-1765397700@registrytheatre.com
SUMMARY:JACK WISE
DESCRIPTION:MAGIC & SHENANIGANS PRESENTS: JACK WISE\n\n\n\n\n\n\n\n\n\nWorld famous Irish magician Jack Wise will make his Kitchener debut for one night only! Hosted by KW’s own Silly Phil from the Silly People\, this show will be one talked about for years to come! \n\n\n\nDublin Magician Jack took this quote literally choosing not to attend almost all school exams. Instead he turned his attention to a more exciting curriculum which included: \n\n\n\n\nLearning to shuffle a pack of cards and keeping them in exactly the same order\n\n\n\nTeaching himself the skills of suggestion and psychological manipulation making him appear to be a mindreader!\n\n\n\nLearning to slow his heart to fewer than 10 beats a minute which is of no practical use but really freaks people out.\n\n\n\nMastering the art of Sword Swallowing\, Jack is one of only sixty swordswallowers in the world today. He is proud to be a member of The Sword Swallowers International Association.\n\n\n\n\nA lot of people have asked Jack as a Magican how he does these things\, more people ask why? His reply is always the same … “Because I can” \n\n\n\nTickets: $25 \n\n\n\n\n\n\n\n\n\nFor event information\, please contact:
URL:https://registrytheatre.com/event/jack-wise/
CATEGORIES:Theatre
ATTACH;FMTTYPE=image/png:https://registrytheatre.com/wp-content/uploads/2025/10/jack.png
END:VEVENT
BEGIN:VEVENT
DTSTART;TZID=America/Toronto:20251213T140000
DTEND;TZID=America/Toronto:20251213T160000
DTSTAMP:20260422T144854
CREATED:20251129T150943Z
LAST-MODIFIED:20251129T171926Z
UID:10000984-1765634400-1765641600@registrytheatre.com
SUMMARY:A BIG BAND CHRISTMAS
DESCRIPTION:WITH BIG BAND THEORY\n\n\n\n\n\n\n\n\n\nIf it’s December\, it’s the BBT charity fundraiser. The region’s best musicians return for a jazzy Christmas\, with special guest vocalist Heather Bambrick. \n\n\n\nShow Dates:Saturday\, December 13 at 2pmSaturday\, December 13 at 8pmSunday\, December 14 at 3pm \n\n\n\nTickets: $40 \n\n\n\n\n\n\n\n\n\nFor event information\, please contact:
URL:https://registrytheatre.com/event/a-big-band-christmas-6/
CATEGORIES:Registry Presents Events
ATTACH;FMTTYPE=image/jpeg:https://registrytheatre.com/wp-content/uploads/2025/10/Big-Band-Theory3-Big-Band-Christmas-24-25-CJxNn9.jpg
END:VEVENT
BEGIN:VEVENT
DTSTART;TZID=America/Toronto:20251213T200000
DTEND;TZID=America/Toronto:20251213T220000
DTSTAMP:20260422T144854
CREATED:20251129T151412Z
LAST-MODIFIED:20251129T172013Z
UID:10001016-1765656000-1765663200@registrytheatre.com
SUMMARY:A BIG BAND CHRISTMAS
DESCRIPTION:WITH BIG BAND THEORY\n\n\n\n\n\n\n\n\n\nIf it’s December\, it’s the BBT charity fundraiser. The region’s best musicians return for a jazzy Christmas\, with special guest vocalist Heather Bambrick. \n\n\n\nShow Dates:Saturday\, December 13 at 2pmSaturday\, December 13 at 8pmSunday\, December 14 at 3pm \n\n\n\nTickets: $40 \n\n\n\n\n\n\n\n\n\nFor event information\, please contact:
URL:https://registrytheatre.com/event/a-big-band-christmas-7/
CATEGORIES:Registry Presents Events
ATTACH;FMTTYPE=image/jpeg:https://registrytheatre.com/wp-content/uploads/2025/10/Big-Band-Theory3-Big-Band-Christmas-24-25-CJxNn9.jpg
END:VEVENT
BEGIN:VEVENT
DTSTART;TZID=America/Toronto:20251214T150000
DTEND;TZID=America/Toronto:20251214T170000
DTSTAMP:20260422T144854
CREATED:20251029T191040Z
LAST-MODIFIED:20251129T172110Z
UID:10001030-1765724400-1765731600@registrytheatre.com
SUMMARY:A BIG BAND CHRISTMAS
DESCRIPTION:WITH BIG BAND THEORY\n\n\n\n\n\n\n\n\n\nIf it’s December\, it’s the BBT charity fundraiser. The region’s best musicians return for a jazzy Christmas\, with special guest vocalist Heather Bambrick.Show Dates:Saturday\, December 13 at 2pmSaturday\, December 13 at 8pmSunday\, December 14 at 3pm \n\n\n\nTickets: $40 \n\n\n\n\n\n\n\n\n\nFor event information\, please contact:
URL:https://registrytheatre.com/event/a-big-band-christmas-5/
CATEGORIES:Registry Presents Events
ATTACH;FMTTYPE=image/jpeg:https://registrytheatre.com/wp-content/uploads/2025/10/Big-Band-Theory3-Big-Band-Christmas-24-25-CJxNn9.jpg
END:VEVENT
END:VCALENDAR