BEGIN:VCALENDAR
VERSION:2.0
PRODID:-//The Registry Theatre - ECPv6.15.20//NONSGML v1.0//EN
CALSCALE:GREGORIAN
METHOD:PUBLISH
X-WR-CALNAME:The Registry Theatre
X-ORIGINAL-URL:https://registrytheatre.com
X-WR-CALDESC:Events for The Registry Theatre
REFRESH-INTERVAL;VALUE=DURATION:PT1H
X-Robots-Tag:noindex
X-PUBLISHED-TTL:PT1H
BEGIN:VTIMEZONE
TZID:America/Toronto
BEGIN:DAYLIGHT
TZOFFSETFROM:-0500
TZOFFSETTO:-0400
TZNAME:EDT
DTSTART:20240310T070000
END:DAYLIGHT
BEGIN:STANDARD
TZOFFSETFROM:-0400
TZOFFSETTO:-0500
TZNAME:EST
DTSTART:20241103T060000
END:STANDARD
BEGIN:DAYLIGHT
TZOFFSETFROM:-0500
TZOFFSETTO:-0400
TZNAME:EDT
DTSTART:20250309T070000
END:DAYLIGHT
BEGIN:STANDARD
TZOFFSETFROM:-0400
TZOFFSETTO:-0500
TZNAME:EST
DTSTART:20251102T060000
END:STANDARD
BEGIN:DAYLIGHT
TZOFFSETFROM:-0500
TZOFFSETTO:-0400
TZNAME:EDT
DTSTART:20260308T070000
END:DAYLIGHT
BEGIN:STANDARD
TZOFFSETFROM:-0400
TZOFFSETTO:-0500
TZNAME:EST
DTSTART:20261101T060000
END:STANDARD
END:VTIMEZONE
BEGIN:VEVENT
DTSTART;TZID=America/Toronto:20250911T150000
DTEND;TZID=America/Toronto:20250911T170000
DTSTAMP:20260422T190352
CREATED:20250422T181941Z
LAST-MODIFIED:20250713T011550Z
UID:10000659-1757602800-1757610000@registrytheatre.com
SUMMARY:HEATHER TAVES
DESCRIPTION:Classics @ The Registry and the KW Chamber Music Society\n\n\n\n\n\n\n\n\n\n\n\n\n\nMs. Taves’ final concert in her complete Beethoven Piano Sonata Cycle. Part 8 including Les Adieux \n\n\n\nTickets: $30 General Admission\, $10 Student \n\n\n\n\n\n \n\n\n\nWho to contact for event info and inquiries:\n\n\n\n\n\nSeries Sponsor:
URL:https://registrytheatre.com/event/heather-taves-2/
CATEGORIES:Classics,Registry Presents Events
ATTACH;FMTTYPE=image/jpeg:https://registrytheatre.com/wp-content/uploads/2025/04/Heather-Taves-Classics-24-25.jpg
END:VEVENT
BEGIN:VEVENT
DTSTART;TZID=America/Toronto:20250924T150000
DTEND;TZID=America/Toronto:20250924T170000
DTSTAMP:20260422T190352
CREATED:20230908T115900Z
LAST-MODIFIED:20250713T011716Z
UID:10000533-1758726000-1758733200@registrytheatre.com
SUMMARY:LONDON’S BADDEST BIG BAND
DESCRIPTION:Jazz @ The Registry\n\n\n\nPart of the Spring Big Band Jazz Weekend\n\n\n\n\n\n\n\n\n\nTrombonist Seth McNall leads the BBB with a whose who of London\, Ontario’s jazz scene. They will present eclectic big band renditions of Mozart\, Greig and other classics. \n\n\n\n \n\n\n\nTickets: $40Special Offer: Buy Tickets to two shows in the Spring Big Band Jazz Weekend for $65\, or all three shows for $90! \n\n\n\n\n\n \n\n\n\nPresented with support from: \n\n\n\n\n\n\n\nWho to contact for event info and inquiries:
URL:https://registrytheatre.com/event/londons-baddest-big-band/
CATEGORIES:Jazz,Registry Presents Events
ORGANIZER;CN="The Registry Theatre Presents":MAILTO:info@registrytheatre.com
END:VEVENT
BEGIN:VEVENT
DTSTART;TZID=America/Toronto:20250924T150000
DTEND;TZID=America/Toronto:20250924T170000
DTSTAMP:20260422T190352
CREATED:20230908T115900Z
LAST-MODIFIED:20250713T011626Z
UID:10000534-1758726000-1758733200@registrytheatre.com
SUMMARY:KW BIG BAND THEORY
DESCRIPTION:Jazz @ The Registry\n\n\n\nPart of the Spring Big Band Jazz Weekend\n\n\n\n\n\n\n\n\n\nWaterloo Region’s finest jazz musicians with performances at the Waterloo Jazz Festival\, and The Registry\, and a live album with the great Canadian Don Thompson. Featuring original compositions and arrangements sure to thrill fans of big band music. \n\n\n\n \n\n\n\nTickets: $40Special Offer: Buy Tickets to two shows in the Spring Big Band Jazz Weekend for $65\, or all three shows for $90! \n\n\n\n\n\n \n\n\n\nPresented with support from: \n\n\n\n\n\n\n\nWho to contact for event info and inquiries:
URL:https://registrytheatre.com/event/kw-big-band-theory/
CATEGORIES:Jazz,Registry Presents Events
ORGANIZER;CN="The Registry Theatre Presents":MAILTO:info@registrytheatre.com
END:VEVENT
BEGIN:VEVENT
DTSTART;TZID=America/Toronto:20250930T200000
DTEND;TZID=America/Toronto:20250930T223000
DTSTAMP:20260422T190352
CREATED:20230908T115900Z
LAST-MODIFIED:20250713T011754Z
UID:10000627-1759262400-1759271400@registrytheatre.com
SUMMARY:HILARIO DURAN AND HIS LATIN JAZZ BIG BAND
DESCRIPTION:Jazz @ The Registry\n\n\n\nPart of the Spring Big Band Jazz Weekend\n\n\n\n\n\n\n\n\n\nJuno and Grammy Award-winning pianist\, composer\, arranger\, and musical director of remarkable virtuosity\, Hilario Durán\, is well recognized for his piano playing and composing skills. The music to be performed by this Orchestra blends milieus and motifs of the classic Cuban musical form\, American standards\, and the arrangement of the Frédéric Chopin composition Fantasia Impromptu. The music has been influenced by most of the traditional forms of Cuban music and the most modern contemporary harmonies. \n\n\n\n \n\n\n\nTickets: $40Special Offer: Buy Tickets to two shows in the Spring Big Band Jazz Weekend for $65\, or all three shows for $90! \n\n\n\n\n\n \n\n\n\nPresented with support from: \n\n\n\n\n\n\n\nWho to contact for event info and inquiries:
URL:https://registrytheatre.com/event/hilario-duran/
CATEGORIES:Jazz,Registry Presents Events
ATTACH;FMTTYPE=image/jpeg:https://registrytheatre.com/wp-content/uploads/2023/09/HILARIO_DSC_2969-Cropped-scaled.jpg
ORGANIZER;CN="The Registry Theatre Presents":MAILTO:info@registrytheatre.com
END:VEVENT
END:VCALENDAR